{"text_format":"1","workbook":"xlsx","n_sheets":6,"sheets":["記入例","女子申込用紙①","女子申込用紙②","男子申込用紙①","男子申込用紙②","（さわらない）"],"not_rendered":{"charts":0,"images":0,"macros":1,"external_links":0,"defined_names":3,"comments":0,"pivot_tables":0},"unopened":[],"bounds":{"document_bytes":16777216,"sheet_cells":100000,"rows_first":2000,"rows_last":500,"rows_between":2000,"halvings":0,"cell_chars":16384,"cell_head_chars":4096},"cells_cut":0,"cells_raw":0,"read":"whole","date_system":"1900"}

{"sheet":"記入例","index":0,"n_rows":47,"n_cols":13,"rows_kept":47,"cut":false,"hidden":false,"merged":[[35,6,36,8],[37,6,38,8],[1,1,1,12],[2,1,2,12],[3,1,3,2],[3,7,3,9],[3,10,3,12],[6,1,6,2],[6,3,6,6],[6,7,6,9],[6,10,6,12],[5,1,5,2],[5,3,5,6],[5,7,5,9],[5,10,5,12],[4,1,4,2],[4,3,4,6],[4,7,4,9],[4,10,4,12],[10,9,10,11],[10,12,11,12],[11,2,11,4],[11,9,11,11],[10,1,11,1],[10,2,10,4],[10,5,11,5],[10,8,11,8],[8,1,8,2],[8,8,8,9],[9,2,9,4],[9,9,9,11],[14,9,14,11],[14,12,15,12],[15,2,15,4],[15,9,15,11],[14,1,15,1],[14,2,14,4],[14,5,15,5],[14,8,15,8],[12,9,12,11],[12,12,13,12],[13,2,13,4],[13,9,13,11],[12,1,13,1],[12,2,12,4],[12,5,13,5],[12,8,13,8],[18,9,18,11],[18,12,19,12],[19,2,19,4],[19,9,19,11],[18,1,19,1],[18,2,18,4],[18,5,19,5],[18,8,19,8],[16,9,16,11],[16,12,17,12],[17,2,17,4],[17,9,17,11],[16,1,17,1],[16,2,16,4],[16,5,17,5],[16,8,17,8],[20,12,21,12],[21,2,21,4],[21,9,21,11],[20,1,21,1],[20,2,20,4],[20,5,21,5],[20,8,21,8],[25,1,25,2],[26,2,26,5],[22,1,23,1],[22,2,22,4],[22,5,23,5],[23,2,23,4],[27,11,28,11],[28,2,28,3],[28,4,28,5],[20,9,20,11],[26,6,26,8],[29,1,30,1],[29,2,29,3],[29,4,29,5],[31,11,32,11],[27,6,28,8],[29,11,30,11],[30,2,30,3],[30,4,30,5],[29,6,30,8],[31,6,32,8],[32,4,32,5],[27,1,28,1],[27,2,27,3],[27,4,27,5],[33,11,34,11],[33,1,34,1],[33,2,33,3],[33,4,33,5],[34,2,34,3],[34,4,34,5],[31,1,32,1],[31,2,31,3],[31,4,31,5],[33,6,34,8],[46,9,46,11],[40,1,40,12],[41,1,41,12],[37,2,37,3],[37,4,37,5],[37,11,38,11],[47,1,47,12],[3,5,3,6],[44,1,44,12],[45,1,45,12],[46,2,46,4],[46,5,46,6],[46,7,46,8],[38,2,38,3],[38,4,38,5],[35,1,36,1],[35,2,35,3],[35,4,35,5],[43,1,43,12],[35,11,36,11],[36,2,36,3],[36,4,36,5],[37,1,38,1],[32,2,32,3]]}
[]
[null,"第３4回那覇地区中学校夏季バドミントン競技大会　申込用紙"]
[null,"那覇地区中学校体育連盟　バドミントン専門部"]
[null,"学校名",null,null,"中学校","男子",null,"監　督"]
[null,"主　将",null,null,null,null,null,"監督連絡先"]
[null,"コーチ",null,null,null,null,null,"マネージャー"]
[null,"電　話",null,null,null,null,null,"Ｆ　Ａ　Ｘ"]
[]
[null,"団体戦",null,null,null,null,null,null,"個人戦",null,"シングルス"]
[null,"№","氏　　名",null,null,"学　年",null,null,"№","氏　名(ふりがな)",null,null,"団体戦\n参加は○"]
[null,1,"タケダシンゲン",null,null,"３年",null,null,1,"トクガワイエヤス",null,null,"○"]
[null,null,"武田信玄",null,null,null,null,null,null,"徳川家康"]
[null,2,"オダノブナガ",null,null,"２年",null,null,2,"トヨトミヒデヨシ",null,null,"○"]
[null,null,"織田信長",null,null,null,null,null,null,"豊臣秀吉"]
[null,3,"トクガワイエヤス",null,null,"１年",null,null,3,"ダテマサムネ"]
[null,null,"徳川家康",null,null,null,null,null,null,"伊達政宗"]
[null,4,"トヨトミヒデヨシ",null,null,"３年",null,null,4]
[null,null,"豊臣秀吉"]
[null,5,"ダテマサムネ",null,null,"２年",null,null,5]
[null,null,"伊達政宗"]
[null,6,null,null,null,null,null,null,6]
[]
[null,7]
[]
[]
[null,"個人戦",null,"ダブルス"]
[null,"№","氏　名(フルネーム)"]
[null,1,"タケダシンゲン",null,"オダノブナガ",null,"○"]
[null,null,"武田信玄",null,"織田信長"]
[null,2]
[]
[null,3]
[]
[null,4]
[]
[null,5]
[]
[null,6]
[]
[]
[null,"※個人戦は校内の強い順に記入してください。"]
[null,"※団体戦・個人戦の両方に参加する選手は、個人戦の団体戦参加欄に○をつけること。"]
[null,"※名前と名字の間にはスペースを入れずに入力してください。"]
[]
[null,"上記選手の大会参加を認めます。"]
[]
[null,null,null,null,null,"中学校",null,"校長",null,null,null,null,"印"]

{"sheet":"女子申込用紙①","index":1,"n_rows":47,"n_cols":13,"rows_kept":47,"cut":false,"hidden":false,"merged":[[1,1,1,12],[4,3,4,6],[6,3,6,6],[6,10,6,12],[2,1,2,12],[3,1,3,2],[6,1,6,2],[3,10,3,12],[4,10,4,12],[5,10,5,12],[3,7,3,9],[4,7,4,9],[5,1,5,2],[5,7,5,9],[4,1,4,2],[5,3,5,6],[6,7,6,9],[3,5,3,6],[9,2,9,4],[8,8,8,9],[8,1,8,2],[9,9,9,11],[17,2,17,4],[11,9,11,11],[13,9,13,11],[10,1,11,1],[12,1,13,1],[14,9,14,11],[12,5,13,5],[10,5,11,5],[14,2,14,4],[16,1,17,1],[14,1,15,1],[47,1,47,12],[44,1,44,12],[45,1,45,12],[36,4,36,5],[38,4,38,5],[28,4,28,5],[34,2,34,3],[37,2,37,3],[32,2,32,3],[32,4,32,5],[38,2,38,3],[37,4,37,5],[29,6,30,8],[35,6,36,8],[37,6,38,8],[34,4,34,5],[41,1,41,12],[36,2,36,3],[40,1,40,12],[46,9,46,11],[46,2,46,4],[46,5,46,6],[46,7,46,8],[43,1,43,12],[16,12,17,12],[26,2,26,5],[21,9,21,11],[26,6,26,8],[18,5,19,5],[16,5,17,5],[19,9,19,11],[18,2,18,4],[16,2,16,4],[39,1,39,12],[33,2,33,3],[16,9,16,11],[31,6,32,8],[33,4,33,5],[19,2,19,4],[25,1,25,2],[29,11,30,11],[27,11,28,11],[20,9,20,11],[29,1,30,1],[30,2,30,3],[30,4,30,5],[37,11,38,11],[35,11,36,11],[31,1,32,1],[31,4,31,5],[31,2,31,3],[35,4,35,5],[35,2,35,3],[27,1,28,1],[20,8,21,8],[20,12,21,12],[18,12,19,12],[37,1,38,1],[35,1,36,1],[20,5,21,5],[22,1,23,1],[22,5,23,5],[21,2,21,4],[20,2,20,4],[28,2,28,3],[33,1,34,1],[20,1,21,1],[29,4,29,5],[29,2,29,3],[27,4,27,5],[27,2,27,3],[22,2,22,4],[23,2,23,4],[33,6,34,8],[27,6,28,8],[33,11,34,11],[31,11,32,11],[18,1,19,1],[12,12,13,12],[12,9,12,11],[10,2,10,4],[11,2,11,4],[15,2,15,4],[14,5,15,5],[12,2,12,4],[13,2,13,4],[12,8,13,8],[10,8,11,8],[14,12,15,12],[14,8,15,8],[15,9,15,11],[18,9,18,11],[18,8,19,8],[10,9,10,11],[16,8,17,8],[17,9,17,11],[10,12,11,12]]}
[]
[null,"第44回 那覇地区中学校新人バドミントン競技大会　申込用紙"]
[null,"那覇地区中学校体育連盟　バドミントン専門部"]
[null,"学校名",null,null,"中学校","女子",null,"監　督"]
[null,"主　将",null,null,null,null,null,"監督連絡先"]
[null,"コーチ",null,null,null,null,null,"マネージャー"]
[null,"学校連絡先",null,null,null,null,null,"学校ＦＡＸ"]
[]
[null,"団体戦",null,null,null,null,null,null,"個人戦",null,"シングルス","右の数式は消さないで下さい。",{"$f":"IF(D4=\"\",0,VLOOKUP(D4,'（さわらない）'!$V$6:$W$35,2,0))","v":0}]
[null,"№","氏　　名",null,null,"学　年",null,null,"№","氏　名",null,null,"団体戦\n参加は○"]
[null,1,"ふりがな",null,null,null,null,null,1,"ふりがな"]
[]
[null,2,"ふりがな",null,null,null,null,null,2,"ふりがな"]
[]
[null,3,"ふりがな",null,null,null,null,null,3,"ふりがな"]
[]
[null,4,"ふりがな",null,null,null,null,null,4,"ふりがな"]
[]
[null,5,"ふりがな",null,null,null,null,null,5,"ふりがな"]
[]
[null,6,"ふりがな",null,null,null,null,null,6,"ふりがな"]
[]
[null,7,"ふりがな"]
[]
[]
[null,"個人戦",null,"ダブルス"]
[null,"№","氏　名",null,null,null,"団体戦\n参加は○"]
[null,1,"ふりがな",null,"ふりがな"]
[]
[null,2,"ふりがな",null,"ふりがな"]
[]
[null,3,"ふりがな",null,"ふりがな"]
[]
[null,4,"ふりがな",null,"ふりがな"]
[]
[null,5,"ふりがな",null,"ふりがな"]
[]
[null,6,"ふりがな",null,"ふりがな"]
[]
[null,"※ファイル名は中学校名に直して送信して下さい。｢○○中｣"]
[null,"※個人戦は校内の強い順に記入してください。"]
[null,"※団体戦・個人戦の両方に参加する選手は、個人戦の団体戦参加欄に○をつけること。"]
[null,"※名前と名字の間にはスペースを入れずに入力してください。"]
[]
[null,"上記選手の大会参加を認めます。"]
[]
[null,null,{"$f":"D4","v":0},null,null,"中学校",null,"校長",null,null,null,null,"印"]

{"sheet":"女子申込用紙②","index":2,"n_rows":47,"n_cols":13,"rows_kept":47,"cut":false,"hidden":false,"merged":[[46,2,46,4],[46,5,46,6],[46,7,46,8],[46,9,46,11],[47,1,47,12],[40,1,40,12],[41,1,41,12],[43,1,43,12],[44,1,44,12],[45,1,45,12],[35,1,36,1],[35,2,35,3],[35,4,35,5],[35,11,36,11],[36,2,36,3],[36,4,36,5],[35,6,36,8],[37,1,38,1],[37,2,37,3],[37,4,37,5],[37,11,38,11],[38,2,38,3],[38,4,38,5],[37,6,38,8],[31,1,32,1],[31,2,31,3],[31,4,31,5],[31,11,32,11],[32,2,32,3],[32,4,32,5],[33,1,34,1],[33,2,33,3],[33,4,33,5],[33,11,34,11],[34,2,34,3],[34,4,34,5],[25,1,25,2],[26,2,26,5],[27,1,28,1],[27,2,27,3],[27,4,27,5],[27,11,28,11],[28,2,28,3],[28,4,28,5],[29,1,30,1],[29,2,29,3],[29,4,29,5],[29,11,30,11],[30,2,30,3],[30,4,30,5],[20,1,21,1],[20,2,20,4],[20,5,21,5],[20,8,21,8],[20,9,20,11],[20,12,21,12],[21,2,21,4],[21,9,21,11],[22,1,23,1],[22,2,22,4],[22,5,23,5],[23,2,23,4],[16,1,17,1],[16,2,16,4],[16,5,17,5],[16,8,17,8],[16,9,16,11],[16,12,17,12],[17,2,17,4],[17,9,17,11],[18,1,19,1],[18,2,18,4],[18,5,19,5],[18,8,19,8],[18,9,18,11],[18,12,19,12],[19,2,19,4],[19,9,19,11],[12,1,13,1],[12,2,12,4],[12,5,13,5],[12,8,13,8],[12,9,12,11],[12,12,13,12],[13,2,13,4],[13,9,13,11],[14,1,15,1],[14,2,14,4],[14,5,15,5],[14,8,15,8],[14,9,14,11],[14,12,15,12],[15,2,15,4],[15,9,15,11],[8,8,8,9],[9,2,9,4],[9,9,9,11],[10,1,11,1],[10,2,10,4],[10,5,11,5],[10,8,11,8],[10,9,10,11],[10,12,11,12],[11,2,11,4],[11,9,11,11],[1,1,1,12],[26,6,26,8],[27,6,28,8],[29,6,30,8],[31,6,32,8],[33,6,34,8],[2,1,2,12],[3,1,3,2],[3,5,3,6],[3,7,3,9],[3,10,3,12],[4,1,4,2],[4,3,4,6],[4,7,4,9],[4,10,4,12],[5,1,5,2],[5,3,5,6],[5,7,5,9],[5,10,5,12],[6,1,6,2],[6,3,6,6],[6,7,6,9],[6,10,6,12],[8,1,8,2]]}
[]
[null,{"$f":"女子申込用紙①!B2","v":"第44回 那覇地区中学校新人バドミントン競技大会　申込用紙"}]
[null,"那覇地区中学校体育連盟　バドミントン専門部"]
[null,"学校名",null,{"$f":"女子申込用紙①!D4","v":0},"中学校","女子",null,{"$f":"女子申込用紙①!H4","v":"監　督"},null,null,{"$f":"女子申込用紙①!K4","v":0}]
[null,"主　将",null,{"$f":"女子申込用紙①!D5","v":0},null,null,null,{"$f":"女子申込用紙①!H5","v":"監督連絡先"},null,null,{"$f":"女子申込用紙①!K5","v":0}]
[null,"コーチ",null,{"$f":"女子申込用紙①!D6","v":0},null,null,null,{"$f":"女子申込用紙①!H6","v":"マネージャー"},null,null,{"$f":"女子申込用紙①!K6","v":0}]
[null,"学校連絡先",null,{"$f":"女子申込用紙①!D7","v":0},null,null,null,{"$f":"女子申込用紙①!H7","v":"学校ＦＡＸ"},null,null,{"$f":"女子申込用紙①!K7","v":0}]
[]
[null,"団体戦",null,null,null,null,null,null,"個人戦",null,"シングルス"]
[null,"№","氏　　名",null,null,"学　年",null,null,"№","氏　名",null,null,"団体戦\n参加は○"]
[null,1,null,null,null,null,null,null,1,"ふりがな"]
[]
[null,2,null,null,null,null,null,null,2,"ふりがな"]
[]
[null,3,null,null,null,null,null,null,3,"ふりがな"]
[]
[null,4,null,null,null,null,null,null,4,"ふりがな"]
[]
[null,5,null,null,null,null,null,null,5,"ふりがな"]
[]
[null,6,null,null,null,null,null,null,6,"ふりがな"]
[]
[null,7]
[]
[]
[null,"個人戦",null,"ダブルス"]
[null,"№","氏　名",null,null,null,"団体戦\n参加は○"]
[null,1,"ふりがな",null,"ふりがな"]
[]
[null,2,"ふりがな",null,"ふりがな"]
[]
[null,3,"ふりがな",null,"ふりがな"]
[]
[null,4,"ふりがな",null,"ふりがな"]
[]
[null,5,"ふりがな",null,"ふりがな"]
[]
[null,6,"ふりがな",null,"ふりがな"]
[]
[]
[null,"※個人戦は校内の強い順に記入してください。"]
[null,"※団体戦・個人戦の両方に参加する選手は、個人戦の団体戦参加欄に○をつけること。"]
[null,"※名前と名字の間にはスペースを入れずに入力してください。"]
[]
[null,"上記選手の大会参加を認めます。"]
[]
[null,null,{"$f":"女子申込用紙①!D4","v":0},null,null,"中学校",null,"校長",null,{"$f":"女子申込用紙①!J47","v":0},null,null,"印"]

{"sheet":"男子申込用紙①","index":3,"n_rows":47,"n_cols":13,"rows_kept":47,"cut":false,"hidden":false,"merged":[[4,1,4,2],[4,3,4,6],[4,7,4,9],[4,10,4,12],[5,1,5,2],[5,3,5,6],[5,7,5,9],[5,10,5,12],[1,1,1,12],[2,1,2,12],[3,1,3,2],[3,5,3,6],[3,7,3,9],[3,10,3,12],[9,2,9,4],[9,9,9,11],[10,1,11,1],[10,2,10,4],[10,5,11,5],[10,8,11,8],[10,9,10,11],[6,1,6,2],[6,3,6,6],[6,7,6,9],[6,10,6,12],[8,1,8,2],[8,8,8,9],[13,9,13,11],[14,1,15,1],[14,2,14,4],[14,5,15,5],[14,8,15,8],[14,9,14,11],[10,12,11,12],[11,2,11,4],[11,9,11,11],[12,1,13,1],[12,2,12,4],[12,5,13,5],[12,8,13,8],[12,9,12,11],[12,12,13,12],[13,2,13,4],[17,9,17,11],[18,1,19,1],[18,2,18,4],[18,5,19,5],[18,8,19,8],[18,9,18,11],[14,12,15,12],[15,2,15,4],[15,9,15,11],[16,1,17,1],[16,2,16,4],[16,5,17,5],[16,8,17,8],[16,9,16,11],[16,12,17,12],[17,2,17,4],[18,12,19,12],[19,2,19,4],[19,9,19,11],[20,1,21,1],[20,2,20,4],[20,5,21,5],[20,8,21,8],[20,9,20,11],[20,12,21,12],[21,2,21,4],[26,2,26,5],[27,1,28,1],[27,2,27,3],[27,4,27,5],[26,6,26,8],[27,6,28,8],[21,9,21,11],[22,1,23,1],[22,2,22,4],[22,5,23,5],[23,2,23,4],[25,1,25,2],[31,1,32,1],[31,2,31,3],[31,4,31,5],[31,11,32,11],[32,2,32,3],[32,4,32,5],[31,6,32,8],[27,11,28,11],[28,2,28,3],[28,4,28,5],[29,1,30,1],[29,2,29,3],[29,4,29,5],[29,11,30,11],[30,2,30,3],[30,4,30,5],[29,6,30,8],[35,2,35,3],[35,4,35,5],[35,11,36,11],[36,2,36,3],[36,4,36,5],[35,6,36,8],[37,1,38,1],[37,2,37,3],[33,1,34,1],[33,2,33,3],[33,4,33,5],[33,11,34,11],[34,2,34,3],[34,4,34,5],[33,6,34,8],[35,1,36,1],[47,1,47,12],[40,1,40,12],[41,1,41,12],[43,1,43,12],[44,1,44,12],[45,1,45,12],[37,4,37,5],[37,11,38,11],[38,2,38,3],[38,4,38,5],[37,6,38,8],[46,2,46,4],[46,5,46,6],[46,7,46,8],[46,9,46,11],[39,1,39,12]]}
[]
[null,{"$f":"女子申込用紙①!B2","v":"第44回 那覇地区中学校新人バドミントン競技大会　申込用紙"}]
[null,"那覇地区中学校体育連盟　バドミントン専門部"]
[null,{"$f":"女子申込用紙①!B4","v":"学校名"},null,null,{"$f":"女子申込用紙①!E4","v":"中学校"},"男子",null,{"$f":"女子申込用紙①!H4","v":"監　督"}]
[null,{"$f":"女子申込用紙①!B5","v":"主　将"},null,null,null,null,null,{"$f":"女子申込用紙①!H5","v":"監督連絡先"}]
[null,{"$f":"女子申込用紙①!B6","v":"コーチ"},null,null,null,null,null,{"$f":"女子申込用紙①!H6","v":"マネージャー"}]
[null,{"$f":"女子申込用紙①!B7","v":"学校連絡先"},null,null,null,null,null,{"$f":"女子申込用紙①!H7","v":"学校ＦＡＸ"}]
[]
[null,"団体戦",null,null,null,null,null,null,"個人戦",null,"シングルス","右の数式は消さないで下さい。",{"$f":"IF(D4=\"\",0,VLOOKUP(D4,'（さわらない）'!$V$6:$W$35,2,0))","v":0}]
[null,"№","氏　　名",null,null,"学　年",null,null,"№","氏　名",null,null,"団体戦\n参加は○"]
[null,1,"ふりがな",null,null,null,null,null,1,"ふりがな"]
[]
[null,2,"ふりがな",null,null,null,null,null,2,"ふりがな"]
[]
[null,3,"ふりがな",null,null,null,null,null,3,"ふりがな"]
[]
[null,4,"ふりがな",null,null,null,null,null,4,"ふりがな"]
[]
[null,5,"ふりがな",null,null,null,null,null,5,"ふりがな"]
[]
[null,6,"ふりがな",null,null,null,null,null,6,"ふりがな"]
[]
[null,7,"ふりがな"]
[]
[]
[null,"個人戦",null,"ダブルス"]
[null,"№","氏　名",null,null,null,"団体戦\n参加は○"]
[null,1,"ふりがな",null,"ふりがな"]
[]
[null,2,"ふりがな",null,"ふりがな"]
[]
[null,3,"ふりがな",null,"ふりがな"]
[]
[null,4,"ふりがな",null,"ふりがな"]
[]
[null,5,"ふりがな",null,"ふりがな"]
[]
[null,6,"ふりがな",null,"ふりがな"]
[]
[null,{"$f":"女子申込用紙①!B40","v":"※ファイル名は中学校名に直して送信して下さい。｢○○中｣"}]
[null,"※個人戦は校内の強い順に記入してください。"]
[null,"※団体戦・個人戦の両方に参加する選手は、個人戦の団体戦参加欄に○をつけること。"]
[null,"※名前と名字の間にはスペースを入れずに入力してください。"]
[]
[null,"上記選手の大会参加を認めます。"]
[]
[null,null,{"$f":"D4","v":0},null,null,"中学校",null,"校長",null,null,null,null,"印"]

{"sheet":"男子申込用紙②","index":4,"n_rows":47,"n_cols":13,"rows_kept":47,"cut":false,"hidden":false,"merged":[[6,1,6,2],[6,3,6,6],[6,7,6,9],[6,10,6,12],[8,1,8,2],[8,8,8,9],[13,9,13,11],[1,1,1,12],[26,6,26,8],[2,1,2,12],[3,1,3,2],[3,5,3,6],[3,7,3,9],[3,10,3,12],[4,1,4,2],[4,3,4,6],[4,7,4,9],[4,10,4,12],[5,1,5,2],[5,3,5,6],[5,7,5,9],[5,10,5,12],[9,2,9,4],[9,9,9,11],[10,12,11,12],[11,2,11,4],[11,9,11,11],[12,1,13,1],[12,2,12,4],[12,5,13,5],[12,8,13,8],[12,9,12,11],[12,12,13,12],[13,2,13,4],[10,8,11,8],[10,9,10,11],[10,1,11,1],[10,2,10,4],[10,5,11,5],[17,9,17,11],[18,1,19,1],[18,2,18,4],[18,5,19,5],[18,8,19,8],[18,9,18,11],[14,12,15,12],[15,2,15,4],[15,9,15,11],[16,1,17,1],[16,2,16,4],[16,5,17,5],[16,8,17,8],[16,9,16,11],[16,12,17,12],[17,2,17,4],[14,1,15,1],[14,2,14,4],[14,5,15,5],[14,8,15,8],[14,9,14,11],[21,9,21,11],[22,1,23,1],[22,2,22,4],[22,5,23,5],[23,2,23,4],[25,1,25,2],[18,12,19,12],[19,2,19,4],[19,9,19,11],[20,1,21,1],[20,2,20,4],[20,5,21,5],[20,8,21,8],[20,9,20,11],[20,12,21,12],[21,2,21,4],[29,1,30,1],[29,2,29,3],[29,4,29,5],[29,11,30,11],[30,2,30,3],[30,4,30,5],[26,2,26,5],[27,1,28,1],[27,2,27,3],[27,4,27,5],[27,11,28,11],[28,2,28,3],[28,4,28,5],[27,6,28,8],[29,6,30,8],[33,1,34,1],[33,2,33,3],[33,4,33,5],[33,11,34,11],[34,2,34,3],[34,4,34,5],[31,1,32,1],[31,2,31,3],[31,4,31,5],[31,11,32,11],[32,2,32,3],[32,4,32,5],[31,6,32,8],[33,6,34,8],[37,1,38,1],[37,2,37,3],[37,4,37,5],[37,11,38,11],[38,2,38,3],[38,4,38,5],[37,6,38,8],[35,1,36,1],[35,2,35,3],[35,4,35,5],[35,11,36,11],[36,2,36,3],[36,4,36,5],[35,6,36,8],[46,2,46,4],[46,5,46,6],[46,7,46,8],[46,9,46,11],[47,1,47,12],[40,1,40,12],[41,1,41,12],[43,1,43,12],[44,1,44,12],[45,1,45,12]]}
[]
[null,{"$f":"女子申込用紙①!B2","v":"第44回 那覇地区中学校新人バドミントン競技大会　申込用紙"}]
[null,"那覇地区中学校体育連盟　バドミントン専門部"]
[null,{"$f":"女子申込用紙①!B4","v":"学校名"},null,{"$f":"男子申込用紙①!D4","v":0},"中学校","男子",null,{"$f":"女子申込用紙①!H4","v":"監　督"},null,null,{"$f":"男子申込用紙①!K4","v":0}]
[null,{"$f":"女子申込用紙①!B5","v":"主　将"},null,{"$f":"男子申込用紙①!D5","v":0},null,null,null,{"$f":"女子申込用紙①!H5","v":"監督連絡先"},null,null,{"$f":"男子申込用紙①!K5","v":0}]
[null,{"$f":"女子申込用紙①!B6","v":"コーチ"},null,{"$f":"男子申込用紙①!D6","v":0},null,null,null,{"$f":"女子申込用紙①!H6","v":"マネージャー"},null,null,{"$f":"男子申込用紙①!K6","v":0}]
[null,{"$f":"女子申込用紙①!B7","v":"学校連絡先"},null,{"$f":"男子申込用紙①!D7","v":0},null,null,null,{"$f":"女子申込用紙①!H7","v":"学校ＦＡＸ"},null,null,{"$f":"男子申込用紙①!K7","v":0}]
[]
[null,"団体戦",null,null,null,null,null,null,"個人戦",null,"シングルス"]
[null,"№","氏　　名",null,null,"学　年",null,null,"№","氏　名",null,null,"団体戦\n参加は○"]
[null,1,null,null,null,null,null,null,1,"ふりがな"]
[]
[null,2,null,null,null,null,null,null,2,"ふりがな"]
[]
[null,3,null,null,null,null,null,null,3,"ふりがな"]
[]
[null,4,null,null,null,null,null,null,4,"ふりがな"]
[]
[null,5,null,null,null,null,null,null,5,"ふりがな"]
[]
[null,6,null,null,null,null,null,null,6,"ふりがな"]
[]
[null,7]
[]
[]
[null,"個人戦",null,"ダブルス"]
[null,"№","氏　名",null,null,null,"団体戦\n参加は○"]
[null,1,"ふりがな",null,"ふりがな"]
[]
[null,2,"ふりがな",null,"ふりがな"]
[]
[null,3,"ふりがな",null,"ふりがな"]
[]
[null,4,"ふりがな",null,"ふりがな"]
[]
[null,5,"ふりがな",null,"ふりがな"]
[]
[null,6,"ふりがな",null,"ふりがな"]
[]
[]
[null,"※個人戦は校内の強い順に記入してください。"]
[null,"※団体戦・個人戦の両方に参加する選手は、個人戦の団体戦参加欄に○をつけること。"]
[null,"※名前と名字の間にはスペースを入れずに入力してください。"]
[]
[null,"上記選手の大会参加を認めます。"]
[]
[null,null,{"$f":"男子申込用紙①!D4","v":0},null,null,"中学校",null,"校長",null,{"$f":"男子申込用紙①!J47","v":0},null,null,"印"]

{"sheet":"（さわらない）","index":5,"n_rows":50,"n_cols":23,"rows_kept":50,"cut":false,"hidden":false,"merged":[]}
[]
[{"$f":"男子申込用紙①!$M$9","v":0},{"$f":"男子申込用紙①!$D$4","v":0},{"$f":"女子申込用紙①!$M$9","v":0},{"$f":"女子申込用紙①!$D$4","v":0}]
[null,"男子シングルス",null,"女子シングルス"]
[1,{"$f":"男子申込用紙①!M11&男子申込用紙①!J12&\"(\"&$B$2&\")\"","v":"(0)"},1,{"$f":"女子申込用紙①!M11&女子申込用紙①!J12&\"(\"&$D$2&\")\"","v":"(0)"}]
[2,{"$f":"男子申込用紙①!M13&男子申込用紙①!J14&\"(\"&$B$2&\")\"","v":"(0)"},2,{"$f":"女子申込用紙①!M13&女子申込用紙①!J14&\"(\"&$D$2&\")\"","v":"(0)"},null,null,null,null,null,null,null,null,null,null,null,null,null,null,null,null,null,"a","i"]
[3,{"$f":"男子申込用紙①!M15&男子申込用紙①!J16&\"(\"&$B$2&\")\"","v":"(0)"},3,{"$f":"女子申込用紙①!M15&女子申込用紙①!J16&\"(\"&$D$2&\")\"","v":"(0)"},null,null,null,null,null,null,null,null,null,null,null,null,null,null,null,null,null,"浦添",1]
[4,{"$f":"男子申込用紙①!M17&男子申込用紙①!J18&\"(\"&$B$2&\")\"","v":"(0)"},4,{"$f":"女子申込用紙①!M17&女子申込用紙①!J18&\"(\"&$D$2&\")\"","v":"(0)"},null,null,null,null,null,null,null,null,null,null,null,null,null,null,null,null,null,"仲西",2]
[5,{"$f":"男子申込用紙①!M19&男子申込用紙①!J20&\"(\"&$B$2&\")\"","v":"(0)"},5,{"$f":"女子申込用紙①!M19&女子申込用紙①!J20&\"(\"&$D$2&\")\"","v":"(0)"},null,null,null,null,null,null,null,null,null,null,null,null,null,null,null,null,null,"神森",3]
[6,{"$f":"男子申込用紙①!M21&男子申込用紙①!J22&\"(\"&$B$2&\")\"","v":"(0)"},6,{"$f":"女子申込用紙①!M21&女子申込用紙①!J22&\"(\"&$D$2&\")\"","v":"(0)"},null,null,null,null,null,null,null,null,null,null,null,null,null,null,null,null,null,"港川",4]
[7,{"$f":"男子申込用紙②!M11&男子申込用紙②!J12&\"(\"&$B$2&\")\"","v":"(0)"},7,{"$f":"女子申込用紙②!M11&女子申込用紙②!J12&\"(\"&$D$2&\")\"","v":"(0)"},null,null,null,null,null,null,null,null,null,null,null,null,null,null,null,null,null,"浦西",5]
[8,{"$f":"男子申込用紙②!M13&男子申込用紙②!J14&\"(\"&$B$2&\")\"","v":"(0)"},8,{"$f":"女子申込用紙②!M13&女子申込用紙②!J14&\"(\"&$D$2&\")\"","v":"(0)"},null,null,null,null,null,null,null,null,null,null,null,null,null,null,null,null,null,"安岡",6]
[9,{"$f":"男子申込用紙②!M15&男子申込用紙②!J16&\"(\"&$B$2&\")\"","v":"(0)"},9,{"$f":"女子申込用紙②!M15&女子申込用紙②!J16&\"(\"&$D$2&\")\"","v":"(0)"},null,null,null,null,null,null,null,null,null,null,null,null,null,null,null,null,null,"首里",7]
[10,{"$f":"男子申込用紙②!M17&男子申込用紙②!J18&\"(\"&$B$2&\")\"","v":"(0)"},10,{"$f":"女子申込用紙②!M17&女子申込用紙②!J18&\"(\"&$D$2&\")\"","v":"(0)"},null,null,null,null,null,null,null,null,null,null,null,null,null,null,null,null,null,"真和志",8]
[11,{"$f":"男子申込用紙②!M19&男子申込用紙②!J20&\"(\"&$B$2&\")\"","v":"(0)"},11,{"$f":"女子申込用紙②!M19&女子申込用紙②!J20&\"(\"&$D$2&\")\"","v":"(0)"},null,null,null,null,null,null,null,null,null,null,null,null,null,null,null,null,null,"石田",9]
[12,{"$f":"男子申込用紙②!M21&男子申込用紙②!J22&\"(\"&$B$2&\")\"","v":"(0)"},12,{"$f":"女子申込用紙②!M21&女子申込用紙②!J22&\"(\"&$D$2&\")\"","v":"(0)"},null,null,null,null,null,null,null,null,null,null,null,null,null,null,null,null,null,"那覇",10]
[null,null,null,null,null,null,null,null,null,null,null,null,null,null,null,null,null,null,null,null,null,"上山",11]
[null,"男子ダブルス",null,"女子ダブルス",null,null,null,null,null,null,null,null,null,null,null,null,null,null,null,null,null,"神原",12]
[1,{"$f":"男子申込用紙①!G28&男子申込用紙①!C29&\"・\"&男子申込用紙①!E29&\"(\"&$B$2&\")\"","v":"・(0)"},1,{"$f":"女子申込用紙①!G28&女子申込用紙①!C29&\"・\"&女子申込用紙①!E29&\"(\"&$D$2&\")\"","v":"・(0)"},null,null,null,null,null,null,null,null,null,null,null,null,null,null,null,null,null,"寄宮",13]
[2,{"$f":"男子申込用紙①!G30&男子申込用紙①!C31&\"・\"&男子申込用紙①!E31&\"(\"&$B$2&\")\"","v":"・(0)"},2,{"$f":"女子申込用紙①!G30&女子申込用紙①!C31&\"・\"&女子申込用紙①!E31&\"(\"&$D$2&\")\"","v":"・(0)"},null,null,null,null,null,null,null,null,null,null,null,null,null,null,null,null,null,"古蔵",14]
[3,{"$f":"男子申込用紙①!G32&男子申込用紙①!C33&\"・\"&男子申込用紙①!E33&\"(\"&$B$2&\")\"","v":"・(0)"},3,{"$f":"女子申込用紙①!G32&女子申込用紙①!C33&\"・\"&女子申込用紙①!E33&\"(\"&$D$2&\")\"","v":"・(0)"},null,null,null,null,null,null,null,null,null,null,null,null,null,null,null,null,null,"小禄",15]
[4,{"$f":"男子申込用紙①!G34&男子申込用紙①!C35&\"・\"&男子申込用紙①!E35&\"(\"&$B$2&\")\"","v":"・(0)"},4,{"$f":"女子申込用紙①!G34&女子申込用紙①!C35&\"・\"&女子申込用紙①!E35&\"(\"&$D$2&\")\"","v":"・(0)"},null,null,null,null,null,null,null,null,null,null,null,null,null,null,null,null,null,"松島",16]
[5,{"$f":"男子申込用紙①!G36&男子申込用紙①!C37&\"・\"&男子申込用紙①!E37&\"(\"&$B$2&\")\"","v":"・(0)"},5,{"$f":"女子申込用紙①!G36&女子申込用紙①!C37&\"・\"&女子申込用紙①!E37&\"(\"&$D$2&\")\"","v":"・(0)"},null,null,null,null,null,null,null,null,null,null,null,null,null,null,null,null,null,"城北",17]
[6,{"$f":"男子申込用紙①!G38&男子申込用紙①!C39&\"・\"&男子申込用紙①!E39&\"(\"&$B$2&\")\"","v":"・(0)"},6,{"$f":"女子申込用紙①!G38&女子申込用紙①!C39&\"・\"&女子申込用紙①!E39&\"(\"&$D$2&\")\"","v":"・(0)"},null,null,null,null,null,null,null,null,null,null,null,null,null,null,null,null,null,"城北分校",18]
[7,{"$f":"男子申込用紙②!G28&男子申込用紙②!C29&\"・\"&男子申込用紙②!E29&\"(\"&$B$2&\")\"","v":"・(0)"},7,{"$f":"女子申込用紙②!G28&女子申込用紙②!C29&\"・\"&女子申込用紙②!E29&\"(\"&$D$2&\")\"","v":"・(0)"},null,null,null,null,null,null,null,null,null,null,null,null,null,null,null,null,null,"鏡原",19]
[8,{"$f":"男子申込用紙②!G30&男子申込用紙②!C31&\"・\"&男子申込用紙②!E31&\"(\"&$B$2&\")\"","v":"・(0)"},8,{"$f":"女子申込用紙②!G30&女子申込用紙②!C31&\"・\"&女子申込用紙②!E31&\"(\"&$D$2&\")\"","v":"・(0)"},null,null,null,null,null,null,null,null,null,null,null,null,null,null,null,null,null,"松城",20]
[9,{"$f":"男子申込用紙②!G32&男子申込用紙②!C33&\"・\"&男子申込用紙②!E33&\"(\"&$B$2&\")\"","v":"・(0)"},9,{"$f":"女子申込用紙②!G32&女子申込用紙②!C33&\"・\"&女子申込用紙②!E33&\"(\"&$D$2&\")\"","v":"・(0)"},null,null,null,null,null,null,null,null,null,null,null,null,null,null,null,null,null,"仲井真",21]
[10,{"$f":"男子申込用紙②!G34&男子申込用紙②!C35&\"・\"&男子申込用紙②!E35&\"(\"&$B$2&\")\"","v":"・(0)"},10,{"$f":"女子申込用紙②!G34&女子申込用紙②!C35&\"・\"&女子申込用紙②!E35&\"(\"&$D$2&\")\"","v":"・(0)"},null,null,null,null,null,null,null,null,null,null,null,null,null,null,null,null,null,"金城",22]
[11,{"$f":"男子申込用紙②!G36&男子申込用紙②!C37&\"・\"&男子申込用紙②!E37&\"(\"&$B$2&\")\"","v":"・(0)"},11,{"$f":"女子申込用紙②!G36&女子申込用紙②!C37&\"・\"&女子申込用紙②!E37&\"(\"&$D$2&\")\"","v":"・(0)"},null,null,null,null,null,null,null,null,null,null,null,null,null,null,null,null,null,"石嶺",23]
[12,{"$f":"男子申込用紙②!G38&男子申込用紙②!C39&\"・\"&男子申込用紙②!E39&\"(\"&$B$2&\")\"","v":"・(0)"},12,{"$f":"女子申込用紙②!G38&女子申込用紙②!C39&\"・\"&女子申込用紙②!E39&\"(\"&$D$2&\")\"","v":"・(0)"},null,null,null,null,null,null,null,null,null,null,null,null,null,null,null,null,null,"南大東",24]
[null,null,null,null,null,null,null,null,null,null,null,null,null,null,null,null,null,null,null,null,null,"北大東",25]
[null,"男子団体選手名簿",null,"女子団体選手名簿",null,null,null,null,null,null,null,null,null,null,null,null,null,null,null,null,null,"興南",26]
["学校",{"$f":"男子申込用紙①!$D$4","v":0},"学校",{"$f":"女子申込用紙①!$D$4","v":0},null,null,null,null,null,null,null,null,null,null,null,null,null,null,null,null,null,"沖尚",27]
["コード",null,"コード",null,null,null,null,null,null,null,null,null,null,null,null,null,null,null,null,null,null,"昭薬",28]
["監督",{"$f":"男子申込用紙①!K4","v":0},"監督",{"$f":"女子申込用紙①!K4","v":0},null,null,null,null,null,null,null,null,null,null,null,null,null,null,null,null,null,"開邦",29]
["コーチ",{"$f":"男子申込用紙①!D6","v":0},"コーチ",{"$f":"女子申込用紙①!D6","v":0}]
["マネージャー",{"$f":"男子申込用紙①!K6","v":0},"マネージャー",{"$f":"女子申込用紙①!K6","v":0}]
[null,{"$f":"男子申込用紙①!C12","v":0},null,{"$f":"女子申込用紙①!C12","v":0}]
[null,{"$f":"男子申込用紙①!C14","v":0},null,{"$f":"女子申込用紙①!C14","v":0}]
[null,{"$f":"男子申込用紙①!C16","v":0},null,{"$f":"女子申込用紙①!C16","v":0}]
[null,{"$f":"男子申込用紙①!C18","v":0},null,{"$f":"女子申込用紙①!C18","v":0}]
[null,{"$f":"男子申込用紙①!C20","v":0},null,{"$f":"女子申込用紙①!C20","v":0}]
[null,{"$f":"男子申込用紙①!C22","v":0},null,{"$f":"女子申込用紙①!C22","v":0}]
[null,{"$f":"男子申込用紙①!C24","v":0},null,{"$f":"女子申込用紙①!C24","v":0}]
[]
[]
[]
[{"$f":"女子申込用紙①!B7","v":"学校連絡先"},{"$f":"男子申込用紙①!D7","v":0},null,{"$f":"女子申込用紙①!D7","v":0}]
[{"$f":"女子申込用紙①!H7","v":"学校ＦＡＸ"},{"$f":"男子申込用紙①!K7","v":0},null,{"$f":"女子申込用紙①!K7","v":0}]
[{"$f":"女子申込用紙①!H5","v":"監督連絡先"},{"$f":"男子申込用紙①!K5","v":0},null,{"$f":"女子申込用紙①!K5","v":0}]
[{"$f":"女子申込用紙①!B5","v":"主　将"},{"$f":"男子申込用紙①!D5","v":0},null,{"$f":"女子申込用紙①!D5","v":0}]