{"text_format":"1","workbook":"xlsx","n_sheets":5,"sheets":["記入例","女D","男D","予備","（さわらない）"],"not_rendered":{"charts":0,"images":0,"macros":1,"external_links":0,"defined_names":3,"comments":0,"pivot_tables":0},"unopened":[],"bounds":{"document_bytes":16777216,"sheet_cells":100000,"rows_first":2000,"rows_last":500,"rows_between":2000,"halvings":0,"cell_chars":16384,"cell_head_chars":4096},"cells_cut":0,"cells_raw":0,"read":"whole","date_system":"1900"}

{"sheet":"記入例","index":0,"n_rows":42,"n_cols":7,"rows_kept":42,"cut":false,"hidden":false,"merged":[[7,5,7,6],[1,1,1,6],[2,1,2,6],[8,1,9,1],[8,4,9,4],[6,1,6,2],[3,4,5,4],[4,1,5,1],[7,2,7,3],[14,1,15,1],[14,4,15,4],[12,1,13,1],[12,4,13,4],[10,1,11,1],[10,4,11,4],[20,1,21,1],[20,4,21,4],[18,1,19,1],[18,4,19,4],[16,1,17,1],[16,4,17,4],[26,1,27,1],[26,4,27,4],[24,1,25,1],[24,4,25,4],[22,1,23,1],[22,4,23,4],[32,1,33,1],[32,4,33,4],[30,1,31,1],[30,4,31,4],[28,1,29,1],[28,4,29,4],[41,5,41,6],[38,1,38,6],[36,1,37,1],[36,4,37,4],[34,1,35,1],[34,4,35,4]]}
[]
[null,{"$f":"女D!B2","v":"第１６回那覇地区中学校ダブルスバドミントン強化大会　申込用紙"}]
[null,"那覇地区中学校体育連盟　バドミントン専門部"]
[null,"学校名",null,"中学校","女子","監　督"]
[null,null,"主将",null,null,"監督連絡先"]
[null,null,"コーチ",null,null,"学校連絡先"]
[null,"個人戦",null,"ダブルス"]
[null,"№","氏　名(フルネーム)",null,"№","氏　名(フルネーム)"]
[null,1,"フリガナ","フリガナ",16,"フリガナ","フリガナ"]
[]
[null,2,"フリガナ","フリガナ",17,"フリガナ","フリガナ"]
[]
[null,3,"フリガナ","フリガナ",18,"フリガナ","フリガナ"]
[]
[null,4,"フリガナ","フリガナ",19,"フリガナ","フリガナ"]
[]
[null,5,"フリガナ","フリガナ",20,"フリガナ","フリガナ"]
[]
[null,6,"フリガナ","フリガナ",21,"フリガナ","フリガナ"]
[]
[null,7,"フリガナ","フリガナ",22,"フリガナ","フリガナ"]
[]
[null,8,"フリガナ","フリガナ",23,"フリガナ","フリガナ"]
[]
[null,9,"フリガナ","フリガナ",24,"フリガナ","フリガナ"]
[]
[null,10,"フリガナ","フリガナ",25,"フリガナ","フリガナ"]
[]
[null,11,"フリガナ","フリガナ",26,"フリガナ","フリガナ"]
[]
[null,12,"フリガナ","フリガナ",27,"フリガナ　","フリガナ　"]
[]
[null,13,"フリガナ","フリガナ",28,"フリガナ","フリガナ"]
[]
[null,14,"フリガナ　","フリガナ　",29,"フリガナ","フリガナ"]
[]
[null,15,"フリガナ","フリガナ",30,"フリガナ","フリガナ"]
[]
[null,"※校内で、強い順に選手名を記入して下さい"]
[null,"※名前と名字の間にスペースを入れずに入力してください。"]
[null,"上記選手の大会参加を認めます。"]
[null,null,{"$f":"C4","v":0},"中学校","校長","印"]

{"sheet":"女D","index":1,"n_rows":44,"n_cols":7,"rows_kept":44,"cut":false,"hidden":false,"merged":[[38,4,39,4],[18,4,19,4],[16,4,17,4],[30,4,31,4],[32,4,33,4],[34,4,35,4],[28,4,29,4],[22,4,23,4],[24,4,25,4],[26,4,27,4],[20,4,21,4],[43,5,43,6],[40,1,40,6],[3,4,5,4],[30,1,31,1],[28,1,29,1],[26,1,27,1],[34,1,35,1],[38,1,39,1],[36,1,37,1],[24,1,25,1],[22,1,23,1],[32,1,33,1],[20,1,21,1],[18,1,19,1],[16,1,17,1],[36,4,37,4],[2,1,2,6],[1,1,1,6],[12,1,13,1],[10,1,11,1],[14,1,15,1],[9,5,9,6],[12,4,13,4],[10,4,11,4],[14,4,15,4],[9,2,9,3],[8,4,8,5],[4,1,6,1]]}
[]
[null,"第１６回那覇地区中学校ダブルスバドミントン強化大会　申込用紙"]
[null,"那覇地区中学校体育連盟　バドミントン専門部"]
[null,"学校名",null,"中学校","女子","コーチ"]
[null,null,"学校連絡先",null,null,"主将"]
[null,null,"監督",null,null,"マネージャー"]
[null,null,"監督連絡先",null,null,"学校ＦＡＸ"]
[]
[null,null,null,null,"この数式は消さないように→",null,{"$f":"IF(C4=\"\",0,VLOOKUP(C4,'（さわらない）'!$AA$4:$AB$31,2,0))","v":0}]
[null,"№","氏　名(フルネーム)",null,"№","氏　名(フルネーム)"]
[null,1,"ふりがな","ふりがな",16,"ふりがな","ふりがな"]
[]
[null,2,"ふりがな","ふりがな",17,"ふりがな","ふりがな"]
[]
[null,3,"ふりがな","ふりがな",18,"ふりがな","ふりがな"]
[]
[null,4,"ふりがな","ふりがな",19,"ふりがな","ふりがな"]
[]
[null,5,"ふりがな","ふりがな",20,"ふりがな","ふりがな"]
[]
[null,6,"ふりがな","ふりがな",21,"ふりがな","ふりがな"]
[]
[null,7,"ふりがな","ふりがな",22,"ふりがな","ふりがな"]
[]
[null,8,"ふりがな","ふりがな",23,"ふりがな","ふりがな"]
[]
[null,9,"ふりがな","ふりがな",24,"ふりがな","ふりがな"]
[]
[null,10,"ふりがな","ふりがな",25,"ふりがな","ふりがな"]
[]
[null,11,"ふりがな","ふりがな",26,"ふりがな","ふりがな"]
[]
[null,12,"ふりがな","ふりがな",27,"ふりがな","ふりがな"]
[]
[null,13,"ふりがな","ふりがな",28,"ふりがな","ふりがな"]
[]
[null,14,"ふりがな","ふりがな",29,"ふりがな","ふりがな"]
[]
[null,15,"ふりがな","ふりがな",30,"ふりがな","ふりがな"]
[]
[null,"※校内で、強い順に選手名を記入して下さい"]
[null,"※名前と名字の間にスペースを入れずに入力してください。"]
[null,"上記選手の大会参加を認めます。"]
[null,null,{"$f":"C4","v":0},"中学校","校長","印"]

{"sheet":"男D","index":2,"n_rows":44,"n_cols":7,"rows_kept":44,"cut":false,"hidden":false,"merged":[[40,1,40,6],[43,5,43,6],[34,1,35,1],[34,4,35,4],[36,1,37,1],[36,4,37,4],[38,1,39,1],[38,4,39,4],[28,1,29,1],[28,4,29,4],[30,1,31,1],[30,4,31,4],[32,1,33,1],[32,4,33,4],[22,1,23,1],[22,4,23,4],[24,1,25,1],[24,4,25,4],[26,1,27,1],[26,4,27,4],[16,1,17,1],[16,4,17,4],[18,1,19,1],[18,4,19,4],[20,1,21,1],[20,4,21,4],[10,1,11,1],[10,4,11,4],[12,1,13,1],[12,4,13,4],[14,1,15,1],[14,4,15,4],[9,2,9,3],[9,5,9,6],[1,1,1,6],[2,1,2,6],[3,4,5,4],[8,4,8,5],[4,1,6,1]]}
[]
[null,{"$f":"女D!B2","v":"第１６回那覇地区中学校ダブルスバドミントン強化大会　申込用紙"}]
[null,"那覇地区中学校体育連盟　バドミントン専門部"]
[null,"学校名",null,"中学校","男子","コーチ"]
[null,null,"学校連絡先",null,null,"主将"]
[null,null,"監督",null,null,"マネージャー"]
[null,null,"監督連絡先",null,null,"学校ＦＡＸ"]
[]
[null,null,null,null,"この数式は消さないように→",null,{"$f":"IF(C4=\"\",0,VLOOKUP(C4,'（さわらない）'!$AA$4:$AB$31,2,0))","v":0}]
[null,"№","氏名",null,"№","氏名"]
[null,1,"ふりがな","ふりがな",16,"ふりがな","ふりがな"]
[]
[null,2,"ふりがな","ふりがな",17,"ふりがな","ふりがな"]
[]
[null,3,"ふりがな","ふりがな",18,"ふりがな","ふりがな"]
[]
[null,4,"ふりがな","ふりがな",19,"ふりがな","ふりがな"]
[]
[null,5,"ふりがな","ふりがな",20,"ふりがな","ふりがな"]
[]
[null,6,"ふりがな","ふりがな",21,"ふりがな","ふりがな"]
[]
[null,7,"ふりがな","ふりがな",22,"ふりがな","ふりがな"]
[]
[null,8,"ふりがな","ふりがな",23,"ふりがな","ふりがな"]
[]
[null,9,"ふりがな","ふりがな",24,"ふりがな","ふりがな"]
[]
[null,10,"ふりがな","ふりがな",25,"ふりがな","ふりがな"]
[]
[null,11,"ふりがな","ふりがな",26,"ふりがな","ふりがな"]
[]
[null,12,"ふりがな","ふりがな",27,"ふりがな","ふりがな"]
[]
[null,13,"ふりがな","ふりがな",28,"ふりがな","ふりがな"]
[]
[null,14,"ふりがな","ふりがな",29,"ふりがな","ふりがな"]
[]
[null,15,"ふりがな","ふりがな",30,"ふりがな","ふりがな"]
[]
[null,"※校内で、強い順に選手名を記入して下さい"]
[null,"※名前と名字の間にスペースを入れずに入力してください。"]
[null,"上記選手の大会参加を認めます。"]
[null,null,{"$f":"C4","v":0},"中学校","校長","印"]

{"sheet":"予備","index":3,"n_rows":42,"n_cols":7,"rows_kept":42,"cut":false,"hidden":true,"merged":[[38,1,38,6],[41,5,41,6],[32,1,33,1],[32,4,33,4],[34,1,35,1],[34,4,35,4],[36,1,37,1],[36,4,37,4],[26,1,27,1],[26,4,27,4],[28,1,29,1],[28,4,29,4],[30,1,31,1],[30,4,31,4],[20,1,21,1],[20,4,21,4],[22,1,23,1],[22,4,23,4],[24,1,25,1],[24,4,25,4],[14,1,15,1],[14,4,15,4],[16,1,17,1],[16,4,17,4],[18,1,19,1],[18,4,19,4],[8,1,9,1],[8,4,9,4],[10,1,11,1],[10,4,11,4],[12,1,13,1],[12,4,13,4],[7,2,7,3],[7,5,7,6],[1,1,1,6],[2,1,2,6],[3,4,5,4],[4,1,5,1],[6,1,6,2]]}
[]
[null,{"$f":"女D!B2","v":"第１６回那覇地区中学校ダブルスバドミントン強化大会　申込用紙"}]
[null,"　"]
[null,"学校名",null,"中学校","女子\n(予備)","監　督"]
[null,null,"主将",null,null,"監督連絡先"]
[null,null,"コーチ",null,null,"学校連絡先"]
[null,"個人戦",null,"ダブルス",null,null,{"$f":"IF(C4=\"\",0,VLOOKUP(C4,'（さわらない）'!$AA$4:$AB$31,2,0))","v":0}]
[null,"№","氏　名(フルネーム)",null,"№","氏　名(フルネーム)"]
[null,1,"フリガナ","フリガナ",16,"フリガナ","フリガナ"]
[]
[null,2,"フリガナ","フリガナ",17,"フリガナ","フリガナ"]
[]
[null,3,"フリガナ","フリガナ",18,"フリガナ","フリガナ"]
[]
[null,4,"フリガナ","フリガナ",19,"フリガナ","フリガナ"]
[]
[null,5,"フリガナ","フリガナ",20,"フリガナ","フリガナ"]
[]
[null,6,"フリガナ","フリガナ",21,"フリガナ","フリガナ"]
[]
[null,7,"フリガナ","フリガナ",22,"フリガナ","フリガナ"]
[]
[null,8,"フリガナ","フリガナ",23,"フリガナ","フリガナ"]
[]
[null,9,"フリガナ","フリガナ",24,"フリガナ","フリガナ"]
[]
[null,10,"フリガナ","フリガナ",25,"フリガナ","フリガナ"]
[]
[null,11,"フリガナ","フリガナ",26,"フリガナ","フリガナ"]
[]
[null,12,"フリガナ","フリガナ",27,"フリガナ　","フリガナ　"]
[]
[null,13,"フリガナ","フリガナ",28,"フリガナ","フリガナ"]
[]
[null,14,"フリガナ　","フリガナ　",29,"フリガナ","フリガナ"]
[]
[null,15,"フリガナ","フリガナ",30,"フリガナ","フリガナ"]
[]
[null,"※校内で、強い順に選手名を記入して下さい"]
[null,"※名前と名字の間にスペースを入れずに入力してください。"]
[null,"上記選手の大会参加を認めます。"]
[null,null,{"$f":"C4","v":0},"中学校","校長","印"]

{"sheet":"（さわらない）","index":4,"n_rows":50,"n_cols":28,"rows_kept":50,"cut":false,"hidden":false,"merged":[]}
[]
[{"$f":"男D!G9","v":0},{"$f":"男D!C4","v":0},{"$f":"女D!G9","v":0},{"$f":"女D!C4","v":0},{"$f":"予備!G7","v":0},{"$f":"予備!C4","v":0}]
[null,"男D",null,"女D",null,"予備",null,null,null,null,null,null,null,null,null,null,null,null,null,null,null,null,null,null,null,null,"浦添",1]
[1,{"$f":"男D!C12&\"･\"&男D!D12&\"(\"&$B$2&\")\"","v":"･(0)"},null,{"$f":"女D!C12&\"･\"&女D!D12&\"(\"&$D$2&\")\"","v":"･(0)"},null,{"$f":"予備!C10&\"･\"&予備!D10&\"(\"&$F$2&\")\"","v":"･(0)"},null,null,null,null,null,null,null,null,null,null,null,null,null,null,null,null,null,null,null,null,"仲西",2]
[2,{"$f":"男D!C14&\"･\"&男D!D14&\"(\"&$B$2&\")\"","v":"･(0)"},null,{"$f":"女D!C14&\"･\"&女D!D14&\"(\"&$D$2&\")\"","v":"･(0)"},null,{"$f":"予備!C12&\"･\"&予備!D12&\"(\"&$F$2&\")\"","v":"･(0)"},null,null,null,null,null,null,null,null,null,null,null,null,null,null,null,null,null,null,null,null,"神森",3]
[3,{"$f":"男D!C16&\"･\"&男D!D16&\"(\"&$B$2&\")\"","v":"･(0)"},null,{"$f":"女D!C16&\"･\"&女D!D16&\"(\"&$D$2&\")\"","v":"･(0)"},null,{"$f":"予備!C14&\"･\"&予備!D14&\"(\"&$F$2&\")\"","v":"･(0)"},null,null,null,null,null,null,null,null,null,null,null,null,null,null,null,null,null,null,null,null,"港川",4]
[4,{"$f":"男D!C18&\"･\"&男D!D18&\"(\"&$B$2&\")\"","v":"･(0)"},null,{"$f":"女D!C18&\"･\"&女D!D18&\"(\"&$D$2&\")\"","v":"･(0)"},null,{"$f":"予備!C16&\"･\"&予備!D16&\"(\"&$F$2&\")\"","v":"･(0)"},null,null,null,null,null,null,null,null,null,null,null,null,null,null,null,null,null,null,null,null,"浦西",5]
[5,{"$f":"男D!C20&\"･\"&男D!D20&\"(\"&$B$2&\")\"","v":"･(0)"},null,{"$f":"女D!C20&\"･\"&女D!D20&\"(\"&$D$2&\")\"","v":"･(0)"},null,{"$f":"予備!C18&\"･\"&予備!D18&\"(\"&$F$2&\")\"","v":"･(0)"},null,null,null,null,null,null,null,null,null,null,null,null,null,null,null,null,null,null,null,null,"安岡",6]
[6,{"$f":"男D!C22&\"･\"&男D!D22&\"(\"&$B$2&\")\"","v":"･(0)"},null,{"$f":"女D!C22&\"･\"&女D!D22&\"(\"&$D$2&\")\"","v":"･(0)"},null,{"$f":"予備!C20&\"･\"&予備!D20&\"(\"&$F$2&\")\"","v":"･(0)"},null,null,null,null,null,null,null,null,null,null,null,null,null,null,null,null,null,null,null,null,"首里",7]
[7,{"$f":"男D!C24&\"･\"&男D!D24&\"(\"&$B$2&\")\"","v":"･(0)"},null,{"$f":"女D!C24&\"･\"&女D!D24&\"(\"&$D$2&\")\"","v":"･(0)"},null,{"$f":"予備!C22&\"･\"&予備!D22&\"(\"&$F$2&\")\"","v":"･(0)"},null,null,null,null,null,null,null,null,null,null,null,null,null,null,null,null,null,null,null,null,"真和志",8]
[8,{"$f":"男D!C26&\"･\"&男D!D26&\"(\"&$B$2&\")\"","v":"･(0)"},null,{"$f":"女D!C26&\"･\"&女D!D26&\"(\"&$D$2&\")\"","v":"･(0)"},null,{"$f":"予備!C24&\"･\"&予備!D24&\"(\"&$F$2&\")\"","v":"･(0)"},null,null,null,null,null,null,null,null,null,null,null,null,null,null,null,null,null,null,null,null,"石田",9]
[9,{"$f":"男D!C28&\"･\"&男D!D28&\"(\"&$B$2&\")\"","v":"･(0)"},null,{"$f":"女D!C28&\"･\"&女D!D28&\"(\"&$D$2&\")\"","v":"･(0)"},null,{"$f":"予備!C26&\"･\"&予備!D26&\"(\"&$F$2&\")\"","v":"･(0)"},null,null,null,null,null,null,null,null,null,null,null,null,null,null,null,null,null,null,null,null,"那覇",10]
[10,{"$f":"男D!C30&\"･\"&男D!D30&\"(\"&$B$2&\")\"","v":"･(0)"},null,{"$f":"女D!C30&\"･\"&女D!D30&\"(\"&$D$2&\")\"","v":"･(0)"},null,{"$f":"予備!C28&\"･\"&予備!D28&\"(\"&$F$2&\")\"","v":"･(0)"},null,null,null,null,null,null,null,null,null,null,null,null,null,null,null,null,null,null,null,null,"上山",11]
[11,{"$f":"男D!C32&\"･\"&男D!D32&\"(\"&$B$2&\")\"","v":"･(0)"},null,{"$f":"女D!C32&\"･\"&女D!D32&\"(\"&$D$2&\")\"","v":"･(0)"},null,{"$f":"予備!C30&\"･\"&予備!D30&\"(\"&$F$2&\")\"","v":"･(0)"},null,null,null,null,null,null,null,null,null,null,null,null,null,null,null,null,null,null,null,null,"神原",12]
[12,{"$f":"男D!C34&\"･\"&男D!D34&\"(\"&$B$2&\")\"","v":"･(0)"},null,{"$f":"女D!C34&\"･\"&女D!D34&\"(\"&$D$2&\")\"","v":"･(0)"},null,{"$f":"予備!C32&\"･\"&予備!D32&\"(\"&$F$2&\")\"","v":"･(0)"},null,null,null,null,null,null,null,null,null,null,null,null,null,null,null,null,null,null,null,null,"寄宮",13]
[13,{"$f":"男D!C36&\"･\"&男D!D36&\"(\"&$B$2&\")\"","v":"･(0)"},null,{"$f":"女D!C36&\"･\"&女D!D36&\"(\"&$D$2&\")\"","v":"･(0)"},null,{"$f":"予備!C34&\"･\"&予備!D34&\"(\"&$F$2&\")\"","v":"･(0)"},null,null,null,null,null,null,null,null,null,null,null,null,null,null,null,null,null,null,null,null,"古蔵",14]
[14,{"$f":"男D!C38&\"･\"&男D!D38&\"(\"&$B$2&\")\"","v":"･(0)"},null,{"$f":"女D!C38&\"･\"&女D!D38&\"(\"&$D$2&\")\"","v":"･(0)"},null,{"$f":"予備!C36&\"･\"&予備!D36&\"(\"&$F$2&\")\"","v":"･(0)"},null,null,null,null,null,null,null,null,null,null,null,null,null,null,null,null,null,null,null,null,"小禄",15]
[15,{"$f":"男D!C40&\"･\"&男D!D40&\"(\"&$B$2&\")\"","v":"･(0)"},null,{"$f":"女D!C40&\"･\"&女D!D40&\"(\"&$D$2&\")\"","v":"･(0)"},null,{"$f":"予備!C38&\"･\"&予備!D38&\"(\"&$F$2&\")\"","v":"･(0)"},null,null,null,null,null,null,null,null,null,null,null,null,null,null,null,null,null,null,null,null,"松島",16]
[16,{"$f":"男D!F12&\"･\"&男D!G12&\"(\"&$B$2&\")\"","v":"･(0)"},null,{"$f":"女D!F12&\"･\"&女D!G12&\"(\"&$D$2&\")\"","v":"･(0)"},null,{"$f":"予備!F10&\"･\"&予備!G10&\"(\"&$F$2&\")\"","v":"･(0)"},null,null,null,null,null,null,null,null,null,null,null,null,null,null,null,null,null,null,null,null,"城北",17]
[17,{"$f":"男D!F14&\"･\"&男D!G14&\"(\"&$B$2&\")\"","v":"･(0)"},null,{"$f":"女D!F14&\"･\"&女D!G14&\"(\"&$D$2&\")\"","v":"･(0)"},null,{"$f":"予備!F12&\"･\"&予備!G12&\"(\"&$F$2&\")\"","v":"･(0)"},null,null,null,null,null,null,null,null,null,null,null,null,null,null,null,null,null,null,null,null,"城北分校",18]
[18,{"$f":"男D!F16&\"･\"&男D!G16&\"(\"&$B$2&\")\"","v":"･(0)"},null,{"$f":"女D!F16&\"･\"&女D!G16&\"(\"&$D$2&\")\"","v":"･(0)"},null,{"$f":"予備!F14&\"･\"&予備!G14&\"(\"&$F$2&\")\"","v":"･(0)"},null,null,null,null,null,null,null,null,null,null,null,null,null,null,null,null,null,null,null,null,"鏡原",19]
[19,{"$f":"男D!F18&\"･\"&男D!G18&\"(\"&$B$2&\")\"","v":"･(0)"},null,{"$f":"女D!F18&\"･\"&女D!G18&\"(\"&$D$2&\")\"","v":"･(0)"},null,{"$f":"予備!F16&\"･\"&予備!G16&\"(\"&$F$2&\")\"","v":"･(0)"},null,null,null,null,null,null,null,null,null,null,null,null,null,null,null,null,null,null,null,null,"松城",20]
[20,{"$f":"男D!F20&\"･\"&男D!G20&\"(\"&$B$2&\")\"","v":"･(0)"},null,{"$f":"女D!F20&\"･\"&女D!G20&\"(\"&$D$2&\")\"","v":"･(0)"},null,{"$f":"予備!F18&\"･\"&予備!G18&\"(\"&$F$2&\")\"","v":"･(0)"},null,null,null,null,null,null,null,null,null,null,null,null,null,null,null,null,null,null,null,null,"仲井真",21]
[21,{"$f":"男D!F22&\"･\"&男D!G22&\"(\"&$B$2&\")\"","v":"･(0)"},null,{"$f":"女D!F22&\"･\"&女D!G22&\"(\"&$D$2&\")\"","v":"･(0)"},null,{"$f":"予備!F20&\"･\"&予備!G20&\"(\"&$F$2&\")\"","v":"･(0)"},null,null,null,null,null,null,null,null,null,null,null,null,null,null,null,null,null,null,null,null,"金城",22]
[22,{"$f":"男D!F24&\"･\"&男D!G24&\"(\"&$B$2&\")\"","v":"･(0)"},null,{"$f":"女D!F24&\"･\"&女D!G24&\"(\"&$D$2&\")\"","v":"･(0)"},null,{"$f":"予備!F22&\"･\"&予備!G22&\"(\"&$F$2&\")\"","v":"･(0)"},null,null,null,null,null,null,null,null,null,null,null,null,null,null,null,null,null,null,null,null,"石嶺",23]
[23,{"$f":"男D!F26&\"･\"&男D!G26&\"(\"&$B$2&\")\"","v":"･(0)"},null,{"$f":"女D!F26&\"･\"&女D!G26&\"(\"&$D$2&\")\"","v":"･(0)"},null,{"$f":"予備!F24&\"･\"&予備!G24&\"(\"&$F$2&\")\"","v":"･(0)"},null,null,null,null,null,null,null,null,null,null,null,null,null,null,null,null,null,null,null,null,"南大東",24]
[24,{"$f":"男D!F28&\"･\"&男D!G28&\"(\"&$B$2&\")\"","v":"･(0)"},null,{"$f":"女D!F28&\"･\"&女D!G28&\"(\"&$D$2&\")\"","v":"･(0)"},null,{"$f":"予備!F26&\"･\"&予備!G26&\"(\"&$F$2&\")\"","v":"･(0)"},null,null,null,null,null,null,null,null,null,null,null,null,null,null,null,null,null,null,null,null,"北大東",25]
[25,{"$f":"男D!F30&\"･\"&男D!G30&\"(\"&$B$2&\")\"","v":"･(0)"},null,{"$f":"女D!F30&\"･\"&女D!G30&\"(\"&$D$2&\")\"","v":"･(0)"},null,{"$f":"予備!F28&\"･\"&予備!G28&\"(\"&$F$2&\")\"","v":"･(0)"},null,null,null,null,null,null,null,null,null,null,null,null,null,null,null,null,null,null,null,null,"興南",26]
[26,{"$f":"男D!F32&\"･\"&男D!G32&\"(\"&$B$2&\")\"","v":"･(0)"},null,{"$f":"女D!F32&\"･\"&女D!G32&\"(\"&$D$2&\")\"","v":"･(0)"},null,{"$f":"予備!F30&\"･\"&予備!G30&\"(\"&$F$2&\")\"","v":"･(0)"},null,null,null,null,null,null,null,null,null,null,null,null,null,null,null,null,null,null,null,null,"沖尚",27]
[27,{"$f":"男D!F34&\"･\"&男D!G34&\"(\"&$B$2&\")\"","v":"･(0)"},null,{"$f":"女D!F34&\"･\"&女D!G34&\"(\"&$D$2&\")\"","v":"･(0)"},null,{"$f":"予備!F32&\"･\"&予備!G32&\"(\"&$F$2&\")\"","v":"･(0)"},null,null,null,null,null,null,null,null,null,null,null,null,null,null,null,null,null,null,null,null,"昭薬",28]
[28,{"$f":"男D!F36&\"･\"&男D!G36&\"(\"&$B$2&\")\"","v":"･(0)"},null,{"$f":"女D!F36&\"･\"&女D!G36&\"(\"&$D$2&\")\"","v":"･(0)"},null,{"$f":"予備!F34&\"･\"&予備!G34&\"(\"&$F$2&\")\"","v":"･(0)"},null,null,null,null,null,null,null,null,null,null,null,null,null,null,null,null,null,null,null,null,"開邦",29]
[29,{"$f":"男D!F38&\"･\"&男D!G38&\"(\"&$B$2&\")\"","v":"･(0)"},null,{"$f":"女D!F38&\"･\"&女D!G38&\"(\"&$D$2&\")\"","v":"･(0)"},null,{"$f":"予備!F36&\"･\"&予備!G36&\"(\"&$F$2&\")\"","v":"･(0)"}]
[30,{"$f":"男D!F40&\"･\"&男D!G40&\"(\"&$B$2&\")\"","v":"･(0)"},null,{"$f":"女D!F40&\"･\"&女D!G40&\"(\"&$D$2&\")\"","v":"･(0)"},null,{"$f":"予備!F38&\"･\"&予備!G38&\"(\"&$F$2&\")\"","v":"･(0)"},null,null,null,null,null,null,null,null,null,null,null,null,null,null,null,null,null,null,null,null,null,0]
[]
[{"$f":"男D!C4","v":0},{"$f":"男D!D5","v":0},{"$f":"男D!D6","v":0},{"$f":"男D!D7","v":0},{"$f":"男D!G4","v":0},{"$f":"男D!G5","v":0},{"$f":"男D!G6","v":0}]
[{"$f":"女D!C4","v":0},{"$f":"女D!D5","v":0},{"$f":"女D!D6","v":0},{"$f":"女D!D7","v":0},{"$f":"女D!G4","v":0},{"$f":"女D!G5","v":0},{"$f":"女D!G6","v":0}]
[]
[]
[]
[]
[]
[]
["学校名",{"$f":"男D!C4","v":0},null,{"$f":"女D!C4","v":0}]
["監督",{"$f":"男D!D6","v":0},null,{"$f":"女D!D6","v":0}]
["コーチ",{"$f":"男D!G4","v":0},null,{"$f":"女D!G4","v":0}]
["マネージャー",{"$f":"男D!G6","v":0},null,{"$f":"女D!G6","v":0}]
["学校連絡先",{"$f":"男D!D5","v":0},null,{"$f":"女D!D5","v":0}]
["学校ＦＡＸ",{"$f":"男D!G7","v":0},null,{"$f":"女D!G7","v":0}]
["監督連絡先",{"$f":"男D!D7","v":0},null,{"$f":"女D!D7","v":0}]
["主　将",{"$f":"男D!G5","v":0},null,{"$f":"女D!G5","v":0}]