{"text_format":"1","workbook":"xlsx","n_sheets":6,"sheets":["2年女子","1年女子","2年男子","1年男子","女子予備","（さわらない）"],"not_rendered":{"charts":0,"images":0,"macros":1,"external_links":0,"defined_names":5,"comments":0,"pivot_tables":0},"unopened":[],"bounds":{"document_bytes":16777216,"sheet_cells":100000,"rows_first":2000,"rows_last":500,"rows_between":2000,"halvings":0,"cell_chars":16384,"cell_head_chars":4096},"cells_cut":0,"cells_raw":0,"read":"whole","date_system":"1900"}

{"sheet":"2年女子","index":0,"n_rows":46,"n_cols":13,"rows_kept":46,"cut":false,"hidden":false,"merged":[[5,7,5,9],[11,9,11,12],[7,12,8,12],[1,1,1,12],[4,3,4,6],[5,3,5,6],[5,10,5,12],[2,1,2,12],[3,1,3,2],[3,7,3,9],[4,7,4,9],[6,1,6,2],[6,3,6,6],[11,2,11,5],[9,9,9,12],[24,8,25,8],[22,8,23,8],[3,5,3,6],[45,9,45,11],[45,2,45,4],[45,5,45,6],[45,7,45,8],[44,1,44,12],[10,8,11,8],[17,9,17,12],[33,2,33,5],[31,2,31,5],[40,1,40,12],[27,9,27,12],[25,9,25,12],[22,1,23,1],[26,1,27,1],[20,1,21,1],[28,8,29,8],[39,9,39,12],[41,1,41,12],[30,1,31,1],[28,1,29,1],[20,8,21,8],[46,1,46,12],[3,10,3,12],[4,10,4,12],[23,9,23,12],[21,9,21,12],[19,9,19,12],[43,1,43,12],[42,1,42,12],[32,1,33,1],[32,8,33,8],[30,8,31,8],[39,2,39,5],[38,8,39,8],[38,1,39,1],[36,1,37,1],[34,1,35,1],[18,1,19,1],[23,2,23,5],[35,9,35,12],[33,9,33,12],[26,2,26,5],[34,8,35,8],[26,8,27,8],[24,1,25,1],[16,1,17,1],[14,1,15,1],[29,2,29,5],[27,2,27,5],[19,2,19,5],[14,2,14,5],[16,2,16,5],[21,2,21,5],[17,2,17,5],[15,2,15,5],[13,2,13,5],[38,2,38,5],[37,2,37,5],[38,9,38,12],[4,1,4,2],[5,1,5,2],[10,2,10,5],[12,2,12,5],[12,1,13,1],[9,2,9,5],[10,1,11,1],[36,2,36,5],[35,2,35,5],[25,2,25,5],[28,2,28,5],[30,2,30,5],[34,2,34,5],[20,9,20,12],[18,2,18,5],[20,2,20,5],[22,2,22,5],[24,2,24,5],[32,2,32,5],[30,9,30,12],[29,9,29,12],[37,9,37,12],[32,9,32,12],[28,9,28,12],[13,9,13,12],[18,9,18,12],[15,9,15,12],[6,7,6,9],[6,10,6,12],[34,9,34,12],[36,9,36,12],[10,9,10,12],[12,9,12,12],[14,9,14,12],[16,9,16,12],[36,8,37,8],[16,8,17,8],[31,9,31,12],[18,8,19,8],[14,8,15,8],[12,8,13,8],[22,9,22,12],[24,9,24,12],[26,9,26,12]]}
[]
[null,"第２４回那覇地区中学校シングルスバドミントン強化大会　申込用紙"]
[null,"那覇地区中学校体育連盟　バドミントン専門部"]
[null,"学校名",null,null,"中学校",null,null,"監　督"]
[null,"主　将",null,null,null,null,null,"監督連絡先"]
[null,"コーチ",null,null,null,null,null,"マネージャー"]
[null,"学校連絡先",null,null,null,null,null,"学校ＦＡＸ"]
[null,null,null,null,null,null,null,null,null,null,null,null,{"$f":"'（さわらない）'!G2","v":0}]
[]
[null,"No.","氏　名",null,null,null,null,null,"No.","氏　名"]
[null,1,"ふりがな",null,null,null,null,null,16,"ふりがな"]
[]
[null,2,"ふりがな",null,null,null,null,null,17,"ふりがな"]
[]
[null,3,"ふりがな",null,null,null,null,null,18,"ふりがな"]
[]
[null,4,"ふりがな",null,null,null,null,null,19,"ふりがな"]
[]
[null,5,"ふりがな",null,null,null,null,null,20,"ふりがな"]
[]
[null,6,"ふりがな",null,null,null,null,null,21,"ふりがな"]
[]
[null,7,"ふりがな",null,null,null,null,null,22,"ふりがな"]
[]
[null,8,"ふりがな",null,null,null,null,null,23,"ふりがな"]
[]
[null,9,"ふりがな",null,null,null,null,null,24,"ふりがな"]
[]
[null,10,"ふりがな",null,null,null,null,null,25,"ふりがな"]
[]
[null,11,"ふりがな",null,null,null,null,null,26,"ふりがな"]
[]
[null,12,"ふりがな",null,null,null,null,null,27,"ふりがな"]
[]
[null,13,"ふりがな",null,null,null,null,null,28,"ふりがな"]
[]
[null,14,"ふりがな",null,null,null,null,null,29,"ふりがな"]
[]
[null,15,"ふりがな",null,null,null,null,null,30,"ふりがな"]
[]
[]
[null,"※校内で強い順に記入してください。　　　"]
[null,"※名前と名字の間にはスペースを入れないで下さい。"]
[]
[null,"上記選手の大会参加を認めます。"]
[null,null,null,null,null,"中学校",null,"校長",null,null,null,null,"印"]

{"sheet":"1年女子","index":1,"n_rows":46,"n_cols":13,"rows_kept":46,"cut":false,"hidden":false,"merged":[[5,1,5,2],[5,3,5,6],[5,7,5,9],[5,10,5,12],[1,1,1,12],[2,1,2,12],[3,1,3,2],[3,5,3,6],[3,7,3,9],[3,10,3,12],[4,1,4,2],[4,3,4,6],[4,7,4,9],[4,10,4,12],[9,2,9,5],[9,9,9,12],[6,1,6,2],[6,3,6,6],[6,7,6,9],[10,1,11,1],[10,8,11,8],[11,2,11,5],[11,9,11,12],[10,2,10,5],[10,9,10,12],[6,10,6,12],[7,12,8,12],[12,1,13,1],[12,8,13,8],[13,2,13,5],[13,9,13,12],[12,2,12,5],[12,9,12,12],[14,1,15,1],[14,8,15,8],[15,2,15,5],[15,9,15,12],[14,2,14,5],[14,9,14,12],[16,1,17,1],[16,8,17,8],[17,2,17,5],[17,9,17,12],[16,2,16,5],[16,9,16,12],[18,1,19,1],[18,8,19,8],[19,2,19,5],[19,9,19,12],[18,2,18,5],[18,9,18,12],[20,1,21,1],[20,8,21,8],[21,2,21,5],[21,9,21,12],[20,2,20,5],[20,9,20,12],[22,1,23,1],[22,8,23,8],[23,2,23,5],[23,9,23,12],[22,2,22,5],[22,9,22,12],[24,1,25,1],[24,8,25,8],[25,2,25,5],[25,9,25,12],[24,2,24,5],[24,9,24,12],[26,1,27,1],[26,8,27,8],[27,2,27,5],[27,9,27,12],[26,2,26,5],[26,9,26,12],[28,1,29,1],[28,8,29,8],[29,2,29,5],[29,9,29,12],[28,2,28,5],[28,9,28,12],[30,1,31,1],[30,8,31,8],[31,2,31,5],[31,9,31,12],[30,2,30,5],[30,9,30,12],[32,1,33,1],[32,8,33,8],[33,2,33,5],[33,9,33,12],[32,2,32,5],[32,9,32,12],[34,1,35,1],[34,8,35,8],[35,2,35,5],[35,9,35,12],[34,2,34,5],[34,9,34,12],[36,1,37,1],[36,8,37,8],[37,2,37,5],[37,9,37,12],[36,2,36,5],[36,9,36,12],[45,9,45,11],[38,1,39,1],[38,8,39,8],[39,2,39,5],[39,9,39,12],[38,2,38,5],[38,9,38,12],[46,1,46,12],[40,1,40,12],[41,1,41,12],[42,1,42,12],[43,1,43,12],[44,1,44,12],[45,2,45,4],[45,5,45,6],[45,7,45,8]]}
[]
[null,{"$f":"'2年女子'!B2:M2","v":"第２４回那覇地区中学校シングルスバドミントン強化大会　申込用紙"}]
[null,"那覇地区中学校体育連盟　バドミントン専門部"]
[null,"学校名",null,{"$f":"'2年女子'!D4","v":0},"中学校",null,null,"監　督",null,null,{"$f":"'2年女子'!K4","v":0},{"$f":"'2年女子'!L4","v":0},{"$f":"'2年女子'!M4","v":0}]
[null,"主　将",null,{"$f":"'2年女子'!D5","v":0},{"$f":"'2年女子'!E5","v":0},{"$f":"'2年女子'!F5","v":0},{"$f":"'2年女子'!G5","v":0},"監督連絡先",null,null,{"$f":"'2年女子'!K5","v":0},{"$f":"'2年女子'!L5","v":0},{"$f":"'2年女子'!M5","v":0}]
[null,"コーチ",null,{"$f":"'2年女子'!D6","v":0},{"$f":"'2年女子'!E6","v":0},{"$f":"'2年女子'!F6","v":0},{"$f":"'2年女子'!G6","v":0},"マネージャー",null,null,{"$f":"'2年女子'!K6","v":0},{"$f":"'2年女子'!L6","v":0},{"$f":"'2年女子'!M6","v":0}]
[null,"学校連絡先",null,{"$f":"'2年女子'!D7","v":0},{"$f":"'2年女子'!E7","v":0},{"$f":"'2年女子'!F7","v":0},{"$f":"'2年女子'!G7","v":0},"学校ＦＡＸ",null,null,{"$f":"'2年女子'!K7","v":0},{"$f":"'2年女子'!L7","v":0},{"$f":"'2年女子'!M7","v":0}]
[null,null,null,null,null,null,null,null,null,null,null,null,{"$f":"'（さわらない）'!G2","v":0}]
[]
[null,"No.","氏　名",null,null,null,null,null,"No.","氏　名"]
[null,1,"ふりがな",null,null,null,null,null,16,"ふりがな"]
[]
[null,2,"ふりがな",null,null,null,null,null,17,"ふりがな"]
[]
[null,3,"ふりがな",null,null,null,null,null,18,"ふりがな"]
[]
[null,4,"ふりがな",null,null,null,null,null,19,"ふりがな"]
[]
[null,5,"ふりがな",null,null,null,null,null,20,"ふりがな"]
[]
[null,6,"ふりがな",null,null,null,null,null,21,"ふりがな"]
[]
[null,7,"ふりがな",null,null,null,null,null,22,"ふりがな"]
[]
[null,8,"ふりがな",null,null,null,null,null,23,"ふりがな"]
[]
[null,9,"ふりがな",null,null,null,null,null,24,"ふりがな"]
[]
[null,10,"ふりがな",null,null,null,null,null,25,"ふりがな"]
[]
[null,11,"ふりがな",null,null,null,null,null,26,"ふりがな"]
[]
[null,12,"ふりがな",null,null,null,null,null,27,"ふりがな"]
[]
[null,13,"ふりがな",null,null,null,null,null,28,"ふりがな"]
[]
[null,14,"ふりがな",null,null,null,null,null,29,"ふりがな"]
[]
[null,15,"ふりがな",null,null,null,null,null,30,"ふりがな"]
[]
[]
[null,"※校内で強い順に記入してください。　　　　"]
[null,"※名前と名字の間にはスペースを入れないで下さい。"]
[]
[null,"上記選手の大会参加を認めます。"]
[null,null,{"$f":"'2年女子'!C46:E46","v":0},null,null,"中学校",null,"校長",null,{"$f":"'2年女子'!J46:L46","v":0},null,null,"印"]

{"sheet":"2年男子","index":2,"n_rows":46,"n_cols":13,"rows_kept":46,"cut":false,"hidden":false,"merged":[[38,1,39,1],[38,8,39,8],[39,2,39,5],[39,9,39,12],[38,2,38,5],[38,9,38,12],[36,1,37,1],[36,8,37,8],[37,2,37,5],[37,9,37,12],[36,2,36,5],[36,9,36,12],[46,1,46,12],[40,1,40,12],[41,1,41,12],[42,1,42,12],[43,1,43,12],[44,1,44,12],[45,2,45,4],[45,5,45,6],[45,7,45,8],[45,9,45,11],[34,8,35,8],[35,2,35,5],[35,9,35,12],[34,2,34,5],[34,9,34,12],[32,1,33,1],[32,8,33,8],[33,2,33,5],[33,9,33,12],[32,2,32,5],[32,9,32,12],[34,1,35,1],[30,1,31,1],[30,8,31,8],[31,2,31,5],[31,9,31,12],[30,2,30,5],[30,9,30,12],[28,1,29,1],[28,8,29,8],[29,2,29,5],[29,9,29,12],[28,2,28,5],[28,9,28,12],[26,1,27,1],[26,8,27,8],[27,2,27,5],[27,9,27,12],[26,2,26,5],[26,9,26,12],[24,1,25,1],[24,8,25,8],[25,2,25,5],[25,9,25,12],[24,2,24,5],[24,9,24,12],[22,1,23,1],[22,8,23,8],[23,2,23,5],[23,9,23,12],[22,2,22,5],[22,9,22,12],[20,1,21,1],[20,8,21,8],[21,2,21,5],[21,9,21,12],[20,2,20,5],[20,9,20,12],[18,1,19,1],[18,8,19,8],[19,2,19,5],[19,9,19,12],[18,2,18,5],[18,9,18,12],[16,1,17,1],[16,8,17,8],[17,2,17,5],[17,9,17,12],[16,2,16,5],[16,9,16,12],[6,7,6,9],[6,10,6,12],[14,1,15,1],[14,8,15,8],[15,2,15,5],[15,9,15,12],[14,2,14,5],[14,9,14,12],[12,1,13,1],[12,8,13,8],[13,2,13,5],[13,9,13,12],[12,2,12,5],[12,9,12,12],[7,12,8,12],[1,1,1,12],[2,1,2,12],[3,1,3,2],[3,5,3,6],[3,7,3,9],[3,10,3,12],[9,2,9,5],[9,9,9,12],[10,1,11,1],[10,8,11,8],[11,2,11,5],[11,9,11,12],[10,2,10,5],[10,9,10,12],[4,1,4,2],[4,3,4,6],[4,7,4,9],[4,10,4,12],[5,1,5,2],[5,3,5,6],[5,7,5,9],[5,10,5,12],[6,1,6,2],[6,3,6,6]]}
[]
[null,{"$f":"'2年女子'!B2:M2","v":"第２４回那覇地区中学校シングルスバドミントン強化大会　申込用紙"}]
[null,"那覇地区中学校体育連盟　バドミントン専門部"]
[null,"学校名",null,null,"中学校","2年男子",null,"監　督"]
[null,"主　将",null,null,null,null,null,"監督連絡先"]
[null,"コーチ",null,null,null,null,null,"マネージャー"]
[null,"学校連絡先",null,null,null,null,null,"学校ＦＡＸ"]
[null,null,null,null,null,null,null,null,null,null,null,null,{"$f":"'（さわらない）'!C2","v":0}]
[]
[null,"No.","氏　名",null,null,null,null,null,"No.","氏　名"]
[null,1,"ふりがな",null,null,null,null,null,16,"ふりがな"]
[]
[null,2,"ふりがな",null,null,null,null,null,17,"ふりがな"]
[]
[null,3,"ふりがな",null,null,null,null,null,18,"ふりがな"]
[]
[null,4,"ふりがな",null,null,null,null,null,19,"ふりがな"]
[]
[null,5,"ふりがな",null,null,null,null,null,20,"ふりがな"]
[]
[null,6,"ふりがな",null,null,null,null,null,21,"ふりがな"]
[]
[null,7,"ふりがな",null,null,null,null,null,22,"ふりがな"]
[]
[null,8,"ふりがな",null,null,null,null,null,23,"ふりがな"]
[]
[null,9,"ふりがな",null,null,null,null,null,24,"ふりがな"]
[]
[null,10,"ふりがな",null,null,null,null,null,25,"ふりがな"]
[]
[null,11,"ふりがな",null,null,null,null,null,26,"ふりがな"]
[]
[null,12,"ふりがな",null,null,null,null,null,27,"ふりがな"]
[]
[null,13,"ふりがな",null,null,null,null,null,28,"ふりがな"]
[]
[null,14,"ふりがな",null,null,null,null,null,29,"ふりがな"]
[]
[null,15,"ふりがな",null,null,null,null,null,30,"ふりがな"]
[]
[]
[null,"※校内で強い順に記入してください。　　　　　"]
[null,"※名前と名字の間にはスペースを入れないで下さい。"]
[]
[null,"上記選手の大会参加を認めます。"]
[null,null,null,null,null,"中学校",null,"校長",null,null,null,null,"印"]

{"sheet":"1年男子","index":3,"n_rows":46,"n_cols":13,"rows_kept":46,"cut":false,"hidden":false,"merged":[[38,1,39,1],[38,8,39,8],[39,2,39,5],[39,9,39,12],[38,2,38,5],[38,9,38,12],[36,1,37,1],[36,8,37,8],[37,2,37,5],[37,9,37,12],[36,2,36,5],[36,9,36,12],[46,1,46,12],[40,1,40,12],[41,1,41,12],[42,1,42,12],[43,1,43,12],[44,1,44,12],[45,2,45,4],[45,5,45,6],[45,7,45,8],[45,9,45,11],[34,8,35,8],[35,2,35,5],[35,9,35,12],[34,2,34,5],[34,9,34,12],[32,1,33,1],[32,8,33,8],[33,2,33,5],[33,9,33,12],[32,2,32,5],[32,9,32,12],[34,1,35,1],[30,1,31,1],[30,8,31,8],[31,2,31,5],[31,9,31,12],[30,2,30,5],[30,9,30,12],[28,1,29,1],[28,8,29,8],[29,2,29,5],[29,9,29,12],[28,2,28,5],[28,9,28,12],[26,1,27,1],[26,8,27,8],[27,2,27,5],[27,9,27,12],[26,2,26,5],[26,9,26,12],[24,1,25,1],[24,8,25,8],[25,2,25,5],[25,9,25,12],[24,2,24,5],[24,9,24,12],[22,1,23,1],[22,8,23,8],[23,2,23,5],[23,9,23,12],[22,2,22,5],[22,9,22,12],[20,1,21,1],[20,8,21,8],[21,2,21,5],[21,9,21,12],[20,2,20,5],[20,9,20,12],[18,1,19,1],[18,8,19,8],[19,2,19,5],[19,9,19,12],[18,2,18,5],[18,9,18,12],[16,1,17,1],[16,8,17,8],[17,2,17,5],[17,9,17,12],[16,2,16,5],[16,9,16,12],[6,7,6,9],[6,10,6,12],[14,1,15,1],[14,8,15,8],[15,2,15,5],[15,9,15,12],[14,2,14,5],[14,9,14,12],[12,1,13,1],[12,8,13,8],[13,2,13,5],[13,9,13,12],[12,2,12,5],[12,9,12,12],[7,12,8,12],[1,1,1,12],[2,1,2,12],[3,1,3,2],[3,5,3,6],[3,7,3,9],[3,10,3,12],[9,2,9,5],[9,9,9,12],[10,1,11,1],[10,8,11,8],[11,2,11,5],[11,9,11,12],[10,2,10,5],[10,9,10,12],[4,1,4,2],[4,3,4,6],[4,7,4,9],[4,10,4,12],[5,1,5,2],[5,3,5,6],[5,7,5,9],[5,10,5,12],[6,1,6,2],[6,3,6,6]]}
[]
[null,{"$f":"'2年女子'!B2:M2","v":"第２４回那覇地区中学校シングルスバドミントン強化大会　申込用紙"}]
[null,"那覇地区中学校体育連盟　バドミントン専門部"]
[null,"学校名",null,{"$f":"'2年男子'!D4","v":0},"中学校","1年男子",null,"監　督",null,null,{"$f":"'2年男子'!K4","v":0},{"$f":"'2年男子'!L4","v":0},{"$f":"'2年男子'!M4","v":0}]
[null,"主　将",null,{"$f":"'2年男子'!D5","v":0},{"$f":"'2年男子'!E5","v":0},{"$f":"'2年男子'!F5","v":0},{"$f":"'2年男子'!G5","v":0},"監督連絡先",null,null,{"$f":"'2年男子'!K5","v":0},{"$f":"'2年男子'!L5","v":0},{"$f":"'2年男子'!M5","v":0}]
[null,"コーチ",null,{"$f":"'2年男子'!D6","v":0},{"$f":"'2年男子'!E6","v":0},{"$f":"'2年男子'!F6","v":0},{"$f":"'2年男子'!G6","v":0},"マネージャー",null,null,{"$f":"'2年男子'!K6","v":0},{"$f":"'2年男子'!L6","v":0},{"$f":"'2年男子'!M6","v":0}]
[null,"学校連絡先",null,{"$f":"'2年男子'!D7","v":0},{"$f":"'2年男子'!E7","v":0},{"$f":"'2年男子'!F7","v":0},{"$f":"'2年男子'!G7","v":0},"学校ＦＡＸ",null,null,{"$f":"'2年男子'!K7","v":0},{"$f":"'2年男子'!L7","v":0},{"$f":"'2年男子'!M7","v":0}]
[null,null,null,null,null,null,null,null,null,null,null,null,{"$f":"'（さわらない）'!C2","v":0}]
[]
[null,"No.","氏　名",null,null,null,null,null,"No.","氏　名"]
[null,1,"ふりがな",null,null,null,null,null,16,"ふりがな"]
[]
[null,2,"ふりがな",null,null,null,null,null,17,"ふりがな"]
[]
[null,3,"ふりがな",null,null,null,null,null,18,"ふりがな"]
[]
[null,4,"ふりがな",null,null,null,null,null,19,"ふりがな"]
[]
[null,5,"ふりがな",null,null,null,null,null,20,"ふりがな"]
[]
[null,6,"ふりがな",null,null,null,null,null,21,"ふりがな"]
[]
[null,7,"ふりがな",null,null,null,null,null,22,"ふりがな"]
[]
[null,8,"ふりがな",null,null,null,null,null,23,"ふりがな"]
[]
[null,9,"ふりがな",null,null,null,null,null,24,"ふりがな"]
[]
[null,10,"ふりがな",null,null,null,null,null,25,"ふりがな"]
[]
[null,11,"ふりがな",null,null,null,null,null,26,"ふりがな"]
[]
[null,12,"ふりがな",null,null,null,null,null,27,"ふりがな"]
[]
[null,13,"ふりがな",null,null,null,null,null,28,"ふりがな"]
[]
[null,14,"ふりがな",null,null,null,null,null,29,"ふりがな"]
[]
[null,15,"ふりがな",null,null,null,null,null,30,"ふりがな"]
[]
[]
[null,"※校内で強い順に記入してください。　　　　"]
[null,"※名前と名字の間にはスペースを入れないで下さい。"]
[]
[null,"上記選手の大会参加を認めます。"]
[null,null,{"$f":"'2年男子'!C46:E46","v":0},null,null,"中学校",null,"校長",null,{"$f":"'2年男子'!J46:L46","v":0},null,null,"印"]

{"sheet":"女子予備","index":4,"n_rows":46,"n_cols":13,"rows_kept":46,"cut":false,"hidden":true,"merged":[[3,1,3,2],[3,7,3,9],[3,10,3,12],[2,7,2,9],[2,10,2,12],[3,3,3,6],[4,1,4,2],[4,3,4,6],[4,7,4,9],[4,10,4,12],[5,1,5,2],[5,3,5,6],[5,7,5,9],[5,10,5,12],[9,2,9,5],[9,9,9,12],[10,1,11,1],[10,2,10,5],[10,8,11,8],[10,9,10,12],[11,2,11,5],[11,9,11,12],[6,1,6,2],[6,3,6,6],[6,7,6,9],[6,10,6,12],[12,1,13,1],[12,2,12,5],[12,8,13,8],[12,9,12,12],[13,2,13,5],[13,9,13,12],[14,1,15,1],[14,2,14,5],[14,8,15,8],[14,9,14,12],[15,2,15,5],[15,9,15,12],[16,1,17,1],[16,2,16,5],[16,8,17,8],[16,9,16,12],[17,2,17,5],[17,9,17,12],[18,1,19,1],[18,2,18,5],[18,8,19,8],[18,9,18,12],[19,2,19,5],[19,9,19,12],[20,1,21,1],[20,2,20,5],[20,8,21,8],[20,9,20,12],[21,2,21,5],[21,9,21,12],[22,1,23,1],[22,2,22,5],[22,8,23,8],[22,9,22,12],[23,2,23,5],[23,9,23,12],[24,1,25,1],[24,2,24,5],[24,8,25,8],[24,9,24,12],[25,2,25,5],[25,9,25,12],[26,1,27,1],[26,2,26,5],[26,8,27,8],[26,9,26,12],[27,2,27,5],[27,9,27,12],[28,1,29,1],[28,2,28,5],[28,8,29,8],[28,9,28,12],[29,2,29,5],[29,9,29,12],[30,1,31,1],[30,2,30,5],[30,8,31,8],[30,9,30,12],[31,2,31,5],[31,9,31,12],[38,8,39,8],[38,9,38,12],[39,2,39,5],[39,9,39,12],[32,1,33,1],[32,2,32,5],[32,8,33,8],[32,9,32,12],[33,2,33,5],[33,9,33,12],[34,1,35,1],[34,2,34,5],[34,8,35,8],[34,9,34,12],[35,2,35,5],[35,9,35,12],[1,1,1,2],[1,5,1,6],[1,7,1,9],[1,10,1,12],[2,1,2,2],[2,3,2,6],[46,1,46,12],[40,1,40,12],[41,1,41,12],[42,1,42,12],[43,1,43,12],[44,1,44,12],[45,2,45,4],[45,5,45,6],[45,7,45,8],[45,9,45,11],[36,1,37,1],[36,2,36,5],[36,8,37,8],[36,9,36,12],[37,2,37,5],[37,9,37,12],[38,1,39,1],[38,2,38,5]]}
[]
[null,"学校名",null,{"$f":"'2年女子'!D2","v":0},"中学校","女子",null,"監　督",null,null,{"$f":"'2年女子'!K2","v":0},{"$f":"'2年女子'!L2","v":0},{"$f":"'2年女子'!M2","v":0}]
[null,"主　将",null,{"$f":"'2年女子'!D3","v":0},{"$f":"'2年女子'!E3","v":0},{"$f":"'2年女子'!F3","v":0},{"$f":"'2年女子'!G3","v":0},"監督連絡先",null,null,{"$f":"'2年女子'!K3","v":0},{"$f":"'2年女子'!L3","v":0},{"$f":"'2年女子'!M3","v":0}]
[null,"コーチ",null,{"$f":"'2年女子'!D4","v":0},{"$f":"'2年女子'!E4","v":"中学校"},{"$f":"'2年女子'!F4","v":0},{"$f":"'2年女子'!G4","v":0},"マネージャー",null,null,{"$f":"'2年女子'!K4","v":0},{"$f":"'2年女子'!L4","v":0},{"$f":"'2年女子'!M4","v":0}]
[null,"学校連絡先",null,{"$f":"'2年女子'!D5","v":0},{"$f":"'2年女子'!E5","v":0},{"$f":"'2年女子'!F5","v":0},{"$f":"'2年女子'!G5","v":0},"学校ＦＡＸ",null,null,{"$f":"'2年女子'!K5","v":0},{"$f":"'2年女子'!L5","v":0},{"$f":"'2年女子'!M5","v":0}]
[null,"コーチ",null,{"$f":"'2年女子'!D6","v":0},{"$f":"'2年女子'!E6","v":0},{"$f":"'2年女子'!F6","v":0},{"$f":"'2年女子'!G6","v":0},"マネージャー",null,null,{"$f":"'2年女子'!K6","v":0},{"$f":"'2年女子'!L6","v":0},{"$f":"'2年女子'!M6","v":0}]
[null,"学校連絡先",null,{"$f":"'2年女子'!D7","v":0},{"$f":"'2年女子'!E7","v":0},{"$f":"'2年女子'!F7","v":0},{"$f":"'2年女子'!G7","v":0},"学校ＦＡＸ",null,null,{"$f":"'2年女子'!K7","v":0},{"$f":"'2年女子'!L7","v":0},{"$f":"'2年女子'!M7","v":0}]
[]
[]
[null,"No.","氏　名",null,null,null,null,null,"No.","氏　名"]
[null,1,"ふりがな",null,null,null,null,null,16,"ふりがな"]
[]
[null,2,"ふりがな",null,null,null,null,null,17,"ふりがな"]
[]
[null,3,"ふりがな",null,null,null,null,null,18,"ふりがな"]
[]
[null,4,"ふりがな",null,null,null,null,null,19,"ふりがな"]
[]
[null,5,"ふりがな",null,null,null,null,null,20,"ふりがな"]
[]
[null,6,"ふりがな",null,null,null,null,null,21,"ふりがな"]
[]
[null,7,"ふりがな",null,null,null,null,null,22,"ふりがな"]
[]
[null,8,"ふりがな",null,null,null,null,null,23,"ふりがな"]
[]
[null,9,"ふりがな",null,null,null,null,null,24,"ふりがな"]
[]
[null,10,"ふりがな",null,null,null,null,null,25,"ふりがな"]
[]
[null,11,"ふりがな",null,null,null,null,null,26,"ふりがな"]
[]
[null,12,"ふりがな",null,null,null,null,null,27,"ふりがな"]
[]
[null,13,"ふりがな",null,null,null,null,null,28,"ふりがな"]
[]
[null,14,"ふりがな",null,null,null,null,null,29,"ふりがな"]
[]
[null,15,"ふりがな",null,null,null,null,null,30,"ふりがな"]
[]
[]
[null,"※校内で強い順に記入してください。　　　　"]
[null,"※名前と名字の間にはスペースを入れないで下さい。"]
[]
[null,"上記選手の大会参加を認めます。"]
[null,null,{"$f":"'2年女子'!C46:E46","v":0},null,null,"中学校",null,"校長",null,{"$f":"'2年女子'!J46:L46","v":0},null,null,"印"]

{"sheet":"（さわらない）","index":5,"n_rows":50,"n_cols":13,"rows_kept":50,"cut":false,"hidden":false,"merged":[]}
[]
[null,{"$f":"'2年男子'!D4","v":0},{"$f":"VLOOKUP(B2,$L$4:$M$43,2,0)","v":0},null,null,{"$f":"'2年女子'!D4","v":0},{"$f":"VLOOKUP(F2,$L$4:$M$43,2,0)","v":0},null,null,null,null,null,"NO"]
[null,"2年男子",null,"1年男子",null,"2年女子",null,"1年女子",null,"予備",null,0,0]
[1,{"$f":"'2年男子'!C12&\"(\"&$B$2&\")\"","v":"(0)"},null,{"$f":"'1年男子'!C12&\"(\"&$B$2&\")\"","v":"(0)"},null,{"$f":"'2年女子'!C12&\"(\"&$F$2&\")\"","v":"(0)"},null,{"$f":"'1年女子'!C12&\"(\"&$F$2&\")\"","v":"(0)"},null,{"$f":"女子予備!C12&\"(\"&$F$2&\")\"","v":"(0)"},null,0,0]
[2,{"$f":"'2年男子'!C14&\"(\"&$B$2&\")\"","v":"(0)"},null,{"$f":"'1年男子'!C14&\"(\"&$B$2&\")\"","v":"(0)"},null,{"$f":"'2年女子'!C14&\"(\"&$F$2&\")\"","v":"(0)"},null,{"$f":"'1年女子'!C14&\"(\"&$F$2&\")\"","v":"(0)"},null,{"$f":"女子予備!C14&\"(\"&$F$2&\")\"","v":"(0)"},null,"浦添",1]
[3,{"$f":"'2年男子'!C16&\"(\"&$B$2&\")\"","v":"(0)"},null,{"$f":"'1年男子'!C16&\"(\"&$B$2&\")\"","v":"(0)"},null,{"$f":"'2年女子'!C16&\"(\"&$F$2&\")\"","v":"(0)"},null,{"$f":"'1年女子'!C16&\"(\"&$F$2&\")\"","v":"(0)"},null,{"$f":"女子予備!C16&\"(\"&$F$2&\")\"","v":"(0)"},null,"仲西",2]
[4,{"$f":"'2年男子'!C18&\"(\"&$B$2&\")\"","v":"(0)"},null,{"$f":"'1年男子'!C18&\"(\"&$B$2&\")\"","v":"(0)"},null,{"$f":"'2年女子'!C18&\"(\"&$F$2&\")\"","v":"(0)"},null,{"$f":"'1年女子'!C18&\"(\"&$F$2&\")\"","v":"(0)"},null,{"$f":"女子予備!C18&\"(\"&$F$2&\")\"","v":"(0)"},null,"神森",3]
[5,{"$f":"'2年男子'!C20&\"(\"&$B$2&\")\"","v":"(0)"},null,{"$f":"'1年男子'!C20&\"(\"&$B$2&\")\"","v":"(0)"},null,{"$f":"'2年女子'!C20&\"(\"&$F$2&\")\"","v":"(0)"},null,{"$f":"'1年女子'!C20&\"(\"&$F$2&\")\"","v":"(0)"},null,{"$f":"女子予備!C20&\"(\"&$F$2&\")\"","v":"(0)"},null,"港川",4]
[6,{"$f":"'2年男子'!C22&\"(\"&$B$2&\")\"","v":"(0)"},null,{"$f":"'1年男子'!C22&\"(\"&$B$2&\")\"","v":"(0)"},null,{"$f":"'2年女子'!C22&\"(\"&$F$2&\")\"","v":"(0)"},null,{"$f":"'1年女子'!C22&\"(\"&$F$2&\")\"","v":"(0)"},null,{"$f":"女子予備!C22&\"(\"&$F$2&\")\"","v":"(0)"},null,"浦西",5]
[7,{"$f":"'2年男子'!C24&\"(\"&$B$2&\")\"","v":"(0)"},null,{"$f":"'1年男子'!C24&\"(\"&$B$2&\")\"","v":"(0)"},null,{"$f":"'2年女子'!C24&\"(\"&$F$2&\")\"","v":"(0)"},null,{"$f":"'1年女子'!C24&\"(\"&$F$2&\")\"","v":"(0)"},null,{"$f":"女子予備!C24&\"(\"&$F$2&\")\"","v":"(0)"},null,"安岡",6]
[8,{"$f":"'2年男子'!C26&\"(\"&$B$2&\")\"","v":"(0)"},null,{"$f":"'1年男子'!C26&\"(\"&$B$2&\")\"","v":"(0)"},null,{"$f":"'2年女子'!C26&\"(\"&$F$2&\")\"","v":"(0)"},null,{"$f":"'1年女子'!C26&\"(\"&$F$2&\")\"","v":"(0)"},null,{"$f":"女子予備!C26&\"(\"&$F$2&\")\"","v":"(0)"},null,"首里",7]
[9,{"$f":"'2年男子'!C28&\"(\"&$B$2&\")\"","v":"(0)"},null,{"$f":"'1年男子'!C28&\"(\"&$B$2&\")\"","v":"(0)"},null,{"$f":"'2年女子'!C28&\"(\"&$F$2&\")\"","v":"(0)"},null,{"$f":"'1年女子'!C28&\"(\"&$F$2&\")\"","v":"(0)"},null,{"$f":"女子予備!C28&\"(\"&$F$2&\")\"","v":"(0)"},null,"真和志",8]
[10,{"$f":"'2年男子'!C30&\"(\"&$B$2&\")\"","v":"(0)"},null,{"$f":"'1年男子'!C30&\"(\"&$B$2&\")\"","v":"(0)"},null,{"$f":"'2年女子'!C30&\"(\"&$F$2&\")\"","v":"(0)"},null,{"$f":"'1年女子'!C30&\"(\"&$F$2&\")\"","v":"(0)"},null,{"$f":"女子予備!C30&\"(\"&$F$2&\")\"","v":"(0)"},null,"石田",9]
[11,{"$f":"'2年男子'!C32&\"(\"&$B$2&\")\"","v":"(0)"},null,{"$f":"'1年男子'!C32&\"(\"&$B$2&\")\"","v":"(0)"},null,{"$f":"'2年女子'!C32&\"(\"&$F$2&\")\"","v":"(0)"},null,{"$f":"'1年女子'!C32&\"(\"&$F$2&\")\"","v":"(0)"},null,{"$f":"女子予備!C32&\"(\"&$F$2&\")\"","v":"(0)"},null,"那覇",10]
[12,{"$f":"'2年男子'!C34&\"(\"&$B$2&\")\"","v":"(0)"},null,{"$f":"'1年男子'!C34&\"(\"&$B$2&\")\"","v":"(0)"},null,{"$f":"'2年女子'!C34&\"(\"&$F$2&\")\"","v":"(0)"},null,{"$f":"'1年女子'!C34&\"(\"&$F$2&\")\"","v":"(0)"},null,{"$f":"女子予備!C34&\"(\"&$F$2&\")\"","v":"(0)"},null,"上山",11]
[13,{"$f":"'2年男子'!C36&\"(\"&$B$2&\")\"","v":"(0)"},null,{"$f":"'1年男子'!C36&\"(\"&$B$2&\")\"","v":"(0)"},null,{"$f":"'2年女子'!C36&\"(\"&$F$2&\")\"","v":"(0)"},null,{"$f":"'1年女子'!C36&\"(\"&$F$2&\")\"","v":"(0)"},null,{"$f":"女子予備!C36&\"(\"&$F$2&\")\"","v":"(0)"},null,"神原",12]
[14,{"$f":"'2年男子'!C38&\"(\"&$B$2&\")\"","v":"(0)"},null,{"$f":"'1年男子'!C38&\"(\"&$B$2&\")\"","v":"(0)"},null,{"$f":"'2年女子'!C38&\"(\"&$F$2&\")\"","v":"(0)"},null,{"$f":"'1年女子'!C38&\"(\"&$F$2&\")\"","v":"(0)"},null,{"$f":"女子予備!C38&\"(\"&$F$2&\")\"","v":"(0)"},null,"寄宮",13]
[15,{"$f":"'2年男子'!C40&\"(\"&$B$2&\")\"","v":"(0)"},null,{"$f":"'1年男子'!C40&\"(\"&$B$2&\")\"","v":"(0)"},null,{"$f":"'2年女子'!C40&\"(\"&$F$2&\")\"","v":"(0)"},null,{"$f":"'1年女子'!C40&\"(\"&$F$2&\")\"","v":"(0)"},null,{"$f":"女子予備!C40&\"(\"&$F$2&\")\"","v":"(0)"},null,"古蔵",14]
[16,{"$f":"'2年男子'!J12&\"(\"&$B$2&\")\"","v":"(0)"},null,{"$f":"'1年男子'!J12&\"(\"&$B$2&\")\"","v":"(0)"},null,{"$f":"'2年女子'!J12&\"(\"&$F$2&\")\"","v":"(0)"},null,{"$f":"'1年女子'!J12&\"(\"&$F$2&\")\"","v":"(0)"},null,{"$f":"女子予備!J12&\"(\"&$F$2&\")\"","v":"(0)"},null,"小禄",15]
[17,{"$f":"'2年男子'!J14&\"(\"&$B$2&\")\"","v":"(0)"},null,{"$f":"'1年男子'!J14&\"(\"&$B$2&\")\"","v":"(0)"},null,{"$f":"'2年女子'!J14&\"(\"&$F$2&\")\"","v":"(0)"},null,{"$f":"'1年女子'!J14&\"(\"&$F$2&\")\"","v":"(0)"},null,{"$f":"女子予備!J14&\"(\"&$F$2&\")\"","v":"(0)"},null,"松島",16]
[18,{"$f":"'2年男子'!J16&\"(\"&$B$2&\")\"","v":"(0)"},null,{"$f":"'1年男子'!J16&\"(\"&$B$2&\")\"","v":"(0)"},null,{"$f":"'2年女子'!J16&\"(\"&$F$2&\")\"","v":"(0)"},null,{"$f":"'1年女子'!J16&\"(\"&$F$2&\")\"","v":"(0)"},null,{"$f":"女子予備!J16&\"(\"&$F$2&\")\"","v":"(0)"},null,"城北",17]
[19,{"$f":"'2年男子'!J18&\"(\"&$B$2&\")\"","v":"(0)"},null,{"$f":"'1年男子'!J18&\"(\"&$B$2&\")\"","v":"(0)"},null,{"$f":"'2年女子'!J18&\"(\"&$F$2&\")\"","v":"(0)"},null,{"$f":"'1年女子'!J18&\"(\"&$F$2&\")\"","v":"(0)"},null,{"$f":"女子予備!J18&\"(\"&$F$2&\")\"","v":"(0)"},null,"城北分校",18]
[20,{"$f":"'2年男子'!J20&\"(\"&$B$2&\")\"","v":"(0)"},null,{"$f":"'1年男子'!J20&\"(\"&$B$2&\")\"","v":"(0)"},null,{"$f":"'2年女子'!J20&\"(\"&$F$2&\")\"","v":"(0)"},null,{"$f":"'1年女子'!J20&\"(\"&$F$2&\")\"","v":"(0)"},null,{"$f":"女子予備!J20&\"(\"&$F$2&\")\"","v":"(0)"},null,"鏡原",19]
[21,{"$f":"'2年男子'!J22&\"(\"&$B$2&\")\"","v":"(0)"},null,{"$f":"'1年男子'!J22&\"(\"&$B$2&\")\"","v":"(0)"},null,{"$f":"'2年女子'!J22&\"(\"&$F$2&\")\"","v":"(0)"},null,{"$f":"'1年女子'!J22&\"(\"&$F$2&\")\"","v":"(0)"},null,{"$f":"女子予備!J22&\"(\"&$F$2&\")\"","v":"(0)"},null,"松城",20]
[22,{"$f":"'2年男子'!J24&\"(\"&$B$2&\")\"","v":"(0)"},null,{"$f":"'1年男子'!J24&\"(\"&$B$2&\")\"","v":"(0)"},null,{"$f":"'2年女子'!J24&\"(\"&$F$2&\")\"","v":"(0)"},null,{"$f":"'1年女子'!J24&\"(\"&$F$2&\")\"","v":"(0)"},null,{"$f":"女子予備!J24&\"(\"&$F$2&\")\"","v":"(0)"},null,"仲井真",21]
[23,{"$f":"'2年男子'!J26&\"(\"&$B$2&\")\"","v":"(0)"},null,{"$f":"'1年男子'!J26&\"(\"&$B$2&\")\"","v":"(0)"},null,{"$f":"'2年女子'!J26&\"(\"&$F$2&\")\"","v":"(0)"},null,{"$f":"'1年女子'!J26&\"(\"&$F$2&\")\"","v":"(0)"},null,{"$f":"女子予備!J26&\"(\"&$F$2&\")\"","v":"(0)"},null,"金城",22]
[24,{"$f":"'2年男子'!J28&\"(\"&$B$2&\")\"","v":"(0)"},null,{"$f":"'1年男子'!J28&\"(\"&$B$2&\")\"","v":"(0)"},null,{"$f":"'2年女子'!J28&\"(\"&$F$2&\")\"","v":"(0)"},null,{"$f":"'1年女子'!J28&\"(\"&$F$2&\")\"","v":"(0)"},null,{"$f":"女子予備!J28&\"(\"&$F$2&\")\"","v":"(0)"},null,"石嶺",23]
[25,{"$f":"'2年男子'!J30&\"(\"&$B$2&\")\"","v":"(0)"},null,{"$f":"'1年男子'!J30&\"(\"&$B$2&\")\"","v":"(0)"},null,{"$f":"'2年女子'!J30&\"(\"&$F$2&\")\"","v":"(0)"},null,{"$f":"'1年女子'!J30&\"(\"&$F$2&\")\"","v":"(0)"},null,{"$f":"女子予備!J30&\"(\"&$F$2&\")\"","v":"(0)"},null,"南大東",24]
[26,{"$f":"'2年男子'!J32&\"(\"&$B$2&\")\"","v":"(0)"},null,{"$f":"'1年男子'!J32&\"(\"&$B$2&\")\"","v":"(0)"},null,{"$f":"'2年女子'!J32&\"(\"&$F$2&\")\"","v":"(0)"},null,{"$f":"'1年女子'!J32&\"(\"&$F$2&\")\"","v":"(0)"},null,{"$f":"女子予備!J32&\"(\"&$F$2&\")\"","v":"(0)"},null,"北大東",25]
[27,{"$f":"'2年男子'!J34&\"(\"&$B$2&\")\"","v":"(0)"},null,{"$f":"'1年男子'!J34&\"(\"&$B$2&\")\"","v":"(0)"},null,{"$f":"'2年女子'!J34&\"(\"&$F$2&\")\"","v":"(0)"},null,{"$f":"'1年女子'!J34&\"(\"&$F$2&\")\"","v":"(0)"},null,{"$f":"女子予備!J34&\"(\"&$F$2&\")\"","v":"(0)"},null,"興南",26]
[28,{"$f":"'2年男子'!J36&\"(\"&$B$2&\")\"","v":"(0)"},null,{"$f":"'1年男子'!J36&\"(\"&$B$2&\")\"","v":"(0)"},null,{"$f":"'2年女子'!J36&\"(\"&$F$2&\")\"","v":"(0)"},null,{"$f":"'1年女子'!J36&\"(\"&$F$2&\")\"","v":"(0)"},null,{"$f":"女子予備!J36&\"(\"&$F$2&\")\"","v":"(0)"},null,"沖尚",27]
[29,{"$f":"'2年男子'!J38&\"(\"&$B$2&\")\"","v":"(0)"},null,{"$f":"'1年男子'!J38&\"(\"&$B$2&\")\"","v":"(0)"},null,{"$f":"'2年女子'!J38&\"(\"&$F$2&\")\"","v":"(0)"},null,{"$f":"'1年女子'!J38&\"(\"&$F$2&\")\"","v":"(0)"},null,{"$f":"女子予備!J38&\"(\"&$F$2&\")\"","v":"(0)"},null,"昭薬",28]
[30,{"$f":"'2年男子'!J40&\"(\"&$B$2&\")\"","v":"(0)"},null,{"$f":"'1年男子'!J40&\"(\"&$B$2&\")\"","v":"(0)"},null,{"$f":"'2年女子'!J40&\"(\"&$F$2&\")\"","v":"(0)"},null,{"$f":"'1年女子'!J40&\"(\"&$F$2&\")\"","v":"(0)"},null,{"$f":"女子予備!J40&\"(\"&$F$2&\")\"","v":"(0)"},null,"開邦",29]
[]
[]
[]
[]
[]
[]
[]
[]
[]
["学校名",{"$f":"'2年男子'!D4","v":0},null,{"$f":"'2年女子'!D4","v":0}]
["監督",{"$f":"'2年男子'!K4","v":0},null,{"$f":"'2年男子'!K4","v":0}]
["コーチ",{"$f":"'2年男子'!D6","v":0},null,{"$f":"'2年女子'!D6","v":0}]
["マネージャー",{"$f":"'2年男子'!K6","v":0},null,{"$f":"'2年女子'!K6","v":0}]
["学校連絡先",{"$f":"'2年男子'!D7","v":0},null,{"$f":"'2年女子'!D7","v":0}]
["学校ＦＡＸ",{"$f":"'2年男子'!K7","v":0},null,{"$f":"'2年女子'!K7","v":0}]
["監督連絡先",{"$f":"'2年男子'!K5","v":0},null,{"$f":"'2年女子'!K5","v":0}]
["主　将",{"$f":"'2年男子'!D5","v":0},null,{"$f":"'2年女子'!D5","v":0}]